BEGIN:VCALENDAR
VERSION:2.0
PRODID:-//ArtsFalmouth, Inc. - ECPv6.15.20//NONSGML v1.0//EN
CALSCALE:GREGORIAN
METHOD:PUBLISH
X-WR-CALNAME:ArtsFalmouth, Inc.
X-ORIGINAL-URL:https://artsfalmouth.org
X-WR-CALDESC:Events for ArtsFalmouth, Inc.
REFRESH-INTERVAL;VALUE=DURATION:PT1H
X-Robots-Tag:noindex
X-PUBLISHED-TTL:PT1H
BEGIN:VTIMEZONE
TZID:America/New_York
BEGIN:DAYLIGHT
TZOFFSETFROM:-0500
TZOFFSETTO:-0400
TZNAME:EDT
DTSTART:20240310T070000
END:DAYLIGHT
BEGIN:STANDARD
TZOFFSETFROM:-0400
TZOFFSETTO:-0500
TZNAME:EST
DTSTART:20241103T060000
END:STANDARD
BEGIN:DAYLIGHT
TZOFFSETFROM:-0500
TZOFFSETTO:-0400
TZNAME:EDT
DTSTART:20250309T070000
END:DAYLIGHT
BEGIN:STANDARD
TZOFFSETFROM:-0400
TZOFFSETTO:-0500
TZNAME:EST
DTSTART:20251102T060000
END:STANDARD
BEGIN:DAYLIGHT
TZOFFSETFROM:-0500
TZOFFSETTO:-0400
TZNAME:EDT
DTSTART:20260308T070000
END:DAYLIGHT
BEGIN:STANDARD
TZOFFSETFROM:-0400
TZOFFSETTO:-0500
TZNAME:EST
DTSTART:20261101T060000
END:STANDARD
END:VTIMEZONE
BEGIN:VEVENT
DTSTART;TZID=America/New_York:20251116T160000
DTEND;TZID=America/New_York:20251116T170000
DTSTAMP:20260423T210911
CREATED:20251028T203929Z
LAST-MODIFIED:20251029T144257Z
UID:14778-1763308800-1763312400@artsfalmouth.org
SUMMARY:Laszlo Gardony Quartet
DESCRIPTION:Falmouth Jazz and West Falmouth Library present the return of pianist and composer Laszlo Gardony\, performing with his quartet on Sunday\, November 16th at 4pm. Tickets are $45. Purchase online. \nInternationally-acclaimed Boston-based jazz pianist and composer Laszlo Gardony is one of the most expressive and technically skilled pianists working in jazz today. “A formidable improviser who lives in the moment” (JazzTimes)\, he is a winner of the Great American Jazz Piano Competition. Mr. Gardony’s performances convey the joy of inspired creation; they draw on a deep well of emotions\, a prodigious technique\, and a playful curiosity that thrives on creating music that is truly alive in each unique moment. He has performed in 27 countries and released 14 albums during his distinguished career. The quartet includes Don Braden (sax)\, John Lockwood (bass) and Yoron Israel (drums).
URL:https://artsfalmouth.org/event/laszlo-gardony-quartet/
LOCATION:West Falmouth Library\, 575 West Falmouth Highway\, West Falmouth\, MA\, 02574\, United States
CATEGORIES:Jazz
ATTACH;FMTTYPE=image/png:https://artsfalmouth.org/wp-content/uploads/2025/10/2025-Laszlo-Gardony-Flyer.png
ORGANIZER;CN="West Falmouth Library":MAILTO:wfal_mail@clamsnet.org
END:VEVENT
END:VCALENDAR