BEGIN:VCALENDAR
VERSION:2.0
PRODID:-//ArtsFalmouth, Inc. - ECPv6.15.20//NONSGML v1.0//EN
CALSCALE:GREGORIAN
METHOD:PUBLISH
X-WR-CALNAME:ArtsFalmouth, Inc.
X-ORIGINAL-URL:https://artsfalmouth.org
X-WR-CALDESC:Events for ArtsFalmouth, Inc.
REFRESH-INTERVAL;VALUE=DURATION:PT1H
X-Robots-Tag:noindex
X-PUBLISHED-TTL:PT1H
BEGIN:VTIMEZONE
TZID:America/New_York
BEGIN:DAYLIGHT
TZOFFSETFROM:-0500
TZOFFSETTO:-0400
TZNAME:EDT
DTSTART:20240310T070000
END:DAYLIGHT
BEGIN:STANDARD
TZOFFSETFROM:-0400
TZOFFSETTO:-0500
TZNAME:EST
DTSTART:20241103T060000
END:STANDARD
BEGIN:DAYLIGHT
TZOFFSETFROM:-0500
TZOFFSETTO:-0400
TZNAME:EDT
DTSTART:20250309T070000
END:DAYLIGHT
BEGIN:STANDARD
TZOFFSETFROM:-0400
TZOFFSETTO:-0500
TZNAME:EST
DTSTART:20251102T060000
END:STANDARD
BEGIN:DAYLIGHT
TZOFFSETFROM:-0500
TZOFFSETTO:-0400
TZNAME:EDT
DTSTART:20260308T070000
END:DAYLIGHT
BEGIN:STANDARD
TZOFFSETFROM:-0400
TZOFFSETTO:-0500
TZNAME:EST
DTSTART:20261101T060000
END:STANDARD
END:VTIMEZONE
BEGIN:VEVENT
DTSTART;TZID=America/New_York:20251118T133000
DTEND;TZID=America/New_York:20251118T150000
DTSTAMP:20260423T210911
CREATED:20250930T032841Z
LAST-MODIFIED:20250930T032841Z
UID:14290-1763472600-1763478000@artsfalmouth.org
SUMMARY:WFL Book Club – Florida
DESCRIPTION:WFL’s volunteer led book club’s November selection is Florida by Lauren Groff. All are welcome to join on Tuesday\, November 18th at 1:30pm. WFL Book Club does not meet in December. Annual registration is requested to receive important communications about schedule or location changes; register for WFL Book Club online. \nA National Book Award finalist collection of interconnected stories exploring the wild and domestic sides of Florida through characters facing natural threats and emotional challenges. \n“Haunting and arresting.” —New York Times Book Review \n“As fine and beautifully crafted as any fiction she has written . . . . . [Groff] is one of the best writers in the United States\, and her prize-winning stories reverberate long after they are read. In past years\, the rare short story collection . . . has won the Pulitzer Prize for Fiction. Florida should be in the running next year.” —LA Review of Books
URL:https://artsfalmouth.org/event/wfl-book-club-florida/
LOCATION:West Falmouth Library\, 575 West Falmouth Highway\, West Falmouth\, MA\, 02574\, United States
CATEGORIES:Book clubs
ATTACH;FMTTYPE=image/png:https://artsfalmouth.org/wp-content/uploads/2025/09/2025-WFL-Fall-Book-Club-florida.png
ORGANIZER;CN="West Falmouth Library":MAILTO:wfal_mail@clamsnet.org
END:VEVENT
END:VCALENDAR