BEGIN:VCALENDAR
VERSION:2.0
PRODID:-//ArtsFalmouth, Inc. - ECPv6.15.20//NONSGML v1.0//EN
CALSCALE:GREGORIAN
METHOD:PUBLISH
X-WR-CALNAME:ArtsFalmouth, Inc.
X-ORIGINAL-URL:https://artsfalmouth.org
X-WR-CALDESC:Events for ArtsFalmouth, Inc.
REFRESH-INTERVAL;VALUE=DURATION:PT1H
X-Robots-Tag:noindex
X-PUBLISHED-TTL:PT1H
BEGIN:VTIMEZONE
TZID:America/New_York
BEGIN:DAYLIGHT
TZOFFSETFROM:-0500
TZOFFSETTO:-0400
TZNAME:EDT
DTSTART:20240310T070000
END:DAYLIGHT
BEGIN:STANDARD
TZOFFSETFROM:-0400
TZOFFSETTO:-0500
TZNAME:EST
DTSTART:20241103T060000
END:STANDARD
BEGIN:DAYLIGHT
TZOFFSETFROM:-0500
TZOFFSETTO:-0400
TZNAME:EDT
DTSTART:20250309T070000
END:DAYLIGHT
BEGIN:STANDARD
TZOFFSETFROM:-0400
TZOFFSETTO:-0500
TZNAME:EST
DTSTART:20251102T060000
END:STANDARD
BEGIN:DAYLIGHT
TZOFFSETFROM:-0500
TZOFFSETTO:-0400
TZNAME:EDT
DTSTART:20260308T070000
END:DAYLIGHT
BEGIN:STANDARD
TZOFFSETFROM:-0400
TZOFFSETTO:-0500
TZNAME:EST
DTSTART:20261101T060000
END:STANDARD
END:VTIMEZONE
BEGIN:VEVENT
DTSTART;TZID=America/New_York:20251121T100000
DTEND;TZID=America/New_York:20251214T160000
DTSTAMP:20260423T193331
CREATED:20251029T145306Z
LAST-MODIFIED:20251029T145306Z
UID:14805-1763719200-1765728000@artsfalmouth.org
SUMMARY:Highfield Hall & Gardens Holidays at Highfield
DESCRIPTION:) Highfield Hall & Gardens is “Decking the Hall” for the 19th Annual Holidays at Highfield starting Friday\, November 21\, and running for four consecutive weekends\, Thursdays through Sundays\, except Thanksgiving Day.  Visit the decorated house and shop in our select artisan gift gallery. \nStep into the timeless magic of The Shopkeepers’ Noël—a captivating celebration of Victorian Christmas charm. Elegant\, enchanting\, and filled with nostalgic wonder\, each window tells a story\, and every room shimmers with holiday delight. \nEnjoy spectacular decorations\, festive music\, seasonal activities\, and whimsical displays that delight visitors of all ages. The beloved Gift Gallery returns with handcrafted artisan gifts\, and our holiday craft room offers hands-on projects to spark your creativity. \nThere is something extra for everyone! Artisan Gift Gallery\, crafts for all ages\, a pictorial scavenger hunt for children\, and an outdoor Story Walk featuring holiday and winter themed books. On Saturdays and Sundays\, we will have story reading for children\, and our favorite Snow Queen and Snow Princesses will make regular appearances. \nPrograms including holiday culinary\, felting\, and floral classes are scheduled throughout these weeks. These classes fill up fast\, so check out the website for dates and pricing information. \nNew this year we are twilight hours each Friday from 4:30 pm – 6:00 pm\, when the lights twinkle a little brighter and the magic of the season feels just a bit closer. During these special evening hours\, enjoy libations and light snacks as you stroll through a captivating celebration of Victorian Christmas charm.  \nThere is no better place to get into the holiday spirit than Holidays at Highfield.  Gather your friends and family and make Holidays at Highfield a treasured tradition. \nAdmission is $15 member/$20 non-member.  Military and children 16 and under are free.  Twilight Hours are $30 for adults. To attend Holidays at Highfield\, we recommend visitors pre-register\, although walk-ins are acceptable. For more information\, please visit highfieldhallandgardens.org \nHolidays at Highfield is made possible in part by the generous support of the Martha’s Vineyard Bank Charitable Trust\, and Rockland Trust. \nHoliday Hours: \nNovember 21st   – 23rd                                 10 am – 4 pm  \nNovember 28th  – November 30st             10 am – 4 pm  \nDecember 4th – 7th                                     10 am – 4 pm  \nDecember 11th – 14th                                    10 am – 4 pm  \n 
URL:https://artsfalmouth.org/event/highfield-hall-gardens-holidays-at-highfield/
LOCATION:Highfield Hall and Gardens\, 56 Highfield Drive\, Falmouth\, MA\, 02541\, United States
ATTACH;FMTTYPE=image/webp:https://artsfalmouth.org/wp-content/uploads/2025/10/Holidays-at-Highfield-2025.webp
ORGANIZER;CN="Highfield Hall and Gardens":MAILTO:info@highfieldhall.org
END:VEVENT
BEGIN:VEVENT
DTSTART;TZID=America/New_York:20251125T193000
DTEND;TZID=America/New_York:20251221T170000
DTSTAMP:20260423T193331
CREATED:20251029T155228Z
LAST-MODIFIED:20251029T155337Z
UID:14813-1764099000-1766336400@artsfalmouth.org
SUMMARY:Newsies at Cotuit Center for the Arts
DESCRIPTION:Cotuit Center for the Arts presents “Newsies” November 25 to December 21. Opening night is tuesday\, November 25\, at 7:30 PM. Other performances are Thursdays and Fridays at 7:30 PM\, Saturdays at 5 PM\, and Sundays at 2 PM. \nDirected by Michele Colley\, this Tony Award-winning musical brings to life the rousing true story of the 1899 New York City newsboys’ strike. With high-energy dance numbers\, unforgettable songs\, and an inspiring message about standing together for what’s right\, Newsies is a thrilling experience for audiences of all ages.\n \nTickets are $15 to $42. For details and more information\, click here: Tickets \n 
URL:https://artsfalmouth.org/event/newsies-at-cotuit-center-for-the-arts/
LOCATION:Cotuit Center for the Arts\, 4404 Falmouth Road\, Cotuit\, MA\, 02635\, United States
CATEGORIES:Theater
ATTACH;FMTTYPE=image/png:https://artsfalmouth.org/wp-content/uploads/2025/10/Newsies-4-x-6-scaled.png
ORGANIZER;CN="Cotuit Center for the Arts":MAILTO:info@cotuitcenterforthearts.org
END:VEVENT
BEGIN:VEVENT
DTSTART;TZID=America/New_York:20251205T160000
DTEND;TZID=America/New_York:20251205T180000
DTSTAMP:20260423T193331
CREATED:20251121T045148Z
LAST-MODIFIED:20251121T045755Z
UID:15117-1764950400-1764957600@artsfalmouth.org
SUMMARY:CapePOPS! Holiday on the Cape
DESCRIPTION:Bring on the sparkle and joy! Your Cape Symphony Orchestra plays all things merry and bright at our beloved Holiday on the Cape concert. We’ll have classic carols\, spirited sleigh bells\, and brilliant performances by Patrice Tiedemann\, the Chatham Chorale\, Align Dance Company\, and\, appearing specially at Saturday’s concerts\, the Cape Symphony Youth Orchestra. Bring family\, bring friends… there’s nothing like a Holiday on the Cape. \nAlyssa Wang takes the podium for the first time as Cape Symphony’s Music Director at these wonderful performances. \nPatrice Tiedemann\, Soprano\nPatrice Tiedemann’s performance highlights include appearances as a soloist with Boston Lyric Opera as The Water in the East Coast premiere of The Little Prince\, in Hansel & Gretel with the Rhode Island Philharmonic\, as Santuzza in Cavalleria Rusticana with the Pioneer Valley Symphony\, and as Rosalinda in Die Fledermaus with Opera Providence and Cape Cod Opera. \nShe has performed as a Holiday Pops soloist with the Boston Pops\, the Cape Symphony\, and the New Bedford Symphony\, and as the Mother Abbess in The Sound of Music with New Bedford Festival Theatre and Theatre by the Sea\, with the Boston Civic Symphony (Verdi’s Requiem)\, with the University Chorale of Boston College (Dubois’s Seven Last Words of Christ and Beethoven’s 9th Symphony) and nationwide in classical\, sacred\, and theatrical repertoire. \nAs Artistic Director of Seaglass Theater Company\, Ms. Tiedemann produces creatively staged performances of classic vocal repertoire for Southern New England. In 2021\, she served as the dramaturg and sang the role of Eliza Brock for the world premiere of Jodi Goble’s Whaling Women. \nChatham Chorale\nIncorporated in 1977\, the Chatham Chorale is dedicated to performing the world’s rich diversity of choral music and supporting the musical arts and artists on Cape Cod. Joe Marchio became Music Director of the Chorale in 2010. \nAlign Dance Company\nALIGN is a creative dance space in Sandwich\, Massachusetts where students feel comfortable to learn and grow. Through 1:1 coaching\, group training\, and a variety of classes\, Align’s dedicated professionals and educators lead dancers to success in whatever form they pursue\, from strengthening their core values as they grow into confident young humans to finding a place in the professional or pre-professional dance world. \nCape Symphony Youth Orchestra\nThe Cape Symphony Youth Orchestra is the flagship ensemble of the Cape Symphony Youth Orchestra Program. Music Director and Conductor Mark Miller\, Principal Clarinet of the Cape Symphony Orchestra\, has more than 35 years’ experience working with talented youth orchestra musicians.
URL:https://artsfalmouth.org/event/capepops-holiday-on-the-cape/
LOCATION:Barnstable Performing Arts Center\, 744 West Main Street\, Hyannis\, 02601
CATEGORIES:Christmas,Classical music,Holiday events,Holiday Festivals,orchestra
ATTACH;FMTTYPE=image/jpeg:https://artsfalmouth.org/wp-content/uploads/2025/11/Holiday-2025_582x419.jpg
ORGANIZER;CN="Cape Symphony":MAILTO:info@capesymphony.org
END:VEVENT
BEGIN:VEVENT
DTSTART;TZID=America/New_York:20251205T180000
DTEND;TZID=America/New_York:20251205T200000
DTSTAMP:20260423T193331
CREATED:20251029T145719Z
LAST-MODIFIED:20251029T145719Z
UID:14690-1764957600-1764964800@artsfalmouth.org
SUMMARY:Annual Tree Lighting & Social
DESCRIPTION:Join West Falmouth Library and the West Falmouth Village Association for their annual tree lighting and social on Friday\, December 5\, from 6 to 8 PM. Enjoy carolers\, cocoa\, cookies\, wine\, cheese and Santa!
URL:https://artsfalmouth.org/event/annual-tree-lighting-social/
LOCATION:West Falmouth Library\, 575 West Falmouth Highway\, West Falmouth\, MA\, 02574\, United States
CATEGORIES:Christmas
ATTACH;FMTTYPE=image/png:https://artsfalmouth.org/wp-content/uploads/2025/10/2025-Tree-Lighting.png
ORGANIZER;CN="West Falmouth Library":MAILTO:wfal_mail@clamsnet.org
END:VEVENT
BEGIN:VEVENT
DTSTART;TZID=America/New_York:20251205T190000
DTEND;TZID=America/New_York:20251205T190000
DTSTAMP:20260423T193331
CREATED:20251121T051947Z
LAST-MODIFIED:20251121T051947Z
UID:15170-1764961200-1764961200@artsfalmouth.org
SUMMARY:WHFF: A Cherry Pie Christmas
DESCRIPTION:Woods Hole Film Festival presents a special screening of the new holiday film A CHERRY PIE CHRISTMAS by John Stimpson on Friday\, December 5\, 7 PM\, Clapp Auditorium\, Lillie Building\, 7 MBL Street\, Woods Hole. Doors open at 6:30 pm. Tickets\, $20\, $14 for members and $10 for students and military. \nA CHERRY PIE CHRISTMAS by John Stimpson\, USA\, 90 mins.\, 2025\, starring Katie Leclerc\, Ryan Carnes\, Ed Amatrudo\, Debrah Farentino   \nA Cherry Pie Christmas starring Katie LeClerc (Switched at Birth and A Cape Cod Christmas) and Ryan Carnes (Desperate Housewives) tells the homespun story of a Chicago pastry chef who returns to her small-town roots in Door County\, Wisconsin (known as the Cape Cod of the Midwest) during the holidays and must decide between her dream job in Chicago and her family’s struggling orchard business with a little help from her high school sweetheart\, a long- lost cherry pie recipe and a bit of Christmas magic. \n\nMassachusetts filmmaker John Stimpson writes\, directs\, produces and edits motion pictures. Integrally involved in the making of over twenty-five feature films\, his movies play all over the world. He is also responsible for television programs airing on the Discovery Network\, Animal Planet\, Home & Garden TV and the Outdoor Life Network. The Legend of Lucy Keyes starring Julie Delpy and Justin Theroux\, A Christmas Kiss with Elisabeth Rohm and Laura Breckenridge\, The Wrong Car starring Danielle Savre and Francia Raisa\, and Ghost Light with Roger Bart\, Tom Riley\, Cary Elwes and Shannyn Sossamon top his list of best-known films. \n\n 
URL:https://artsfalmouth.org/event/whff-a-cherry-pie-christmas/
LOCATION:Clapp Auditorium\, 7 MBL Street\, Woods Hole\, MA\, United States
CATEGORIES:Christmas,Film
ATTACH;FMTTYPE=image/jpeg:https://artsfalmouth.org/wp-content/uploads/2025/11/Cherry-Pie-Christmas.jpg
ORGANIZER;CN="Woods Hole Film Festival":MAILTO:info@woodsholefilmfestival.org
END:VEVENT
BEGIN:VEVENT
DTSTART;TZID=America/New_York:20251205T200000
DTEND;TZID=America/New_York:20251205T220000
DTSTAMP:20260423T193331
CREATED:20251121T045825Z
LAST-MODIFIED:20251121T045825Z
UID:15122-1764964800-1764972000@artsfalmouth.org
SUMMARY:CapePOPS! Holiday on the Cape
DESCRIPTION:Bring on the sparkle and joy! Your Cape Symphony Orchestra plays all things merry and bright at our beloved Holiday on the Cape concert. We’ll have classic carols\, spirited sleigh bells\, and brilliant performances by Patrice Tiedemann\, the Chatham Chorale\, Align Dance Company\, and\, appearing specially at Saturday’s concerts\, the Cape Symphony Youth Orchestra. Bring family\, bring friends… there’s nothing like a Holiday on the Cape. \nAlyssa Wang takes the podium for the first time as Cape Symphony’s Music Director at these wonderful performances. \nPatrice Tiedemann\, Soprano\nPatrice Tiedemann’s performance highlights include appearances as a soloist with Boston Lyric Opera as The Water in the East Coast premiere of The Little Prince\, in Hansel & Gretel with the Rhode Island Philharmonic\, as Santuzza in Cavalleria Rusticana with the Pioneer Valley Symphony\, and as Rosalinda in Die Fledermaus with Opera Providence and Cape Cod Opera. \nShe has performed as a Holiday Pops soloist with the Boston Pops\, the Cape Symphony\, and the New Bedford Symphony\, and as the Mother Abbess in The Sound of Music with New Bedford Festival Theatre and Theatre by the Sea\, with the Boston Civic Symphony (Verdi’s Requiem)\, with the University Chorale of Boston College (Dubois’s Seven Last Words of Christ and Beethoven’s 9th Symphony) and nationwide in classical\, sacred\, and theatrical repertoire. \nAs Artistic Director of Seaglass Theater Company\, Ms. Tiedemann produces creatively staged performances of classic vocal repertoire for Southern New England. In 2021\, she served as the dramaturg and sang the role of Eliza Brock for the world premiere of Jodi Goble’s Whaling Women. \nChatham Chorale\nIncorporated in 1977\, the Chatham Chorale is dedicated to performing the world’s rich diversity of choral music and supporting the musical arts and artists on Cape Cod. Joe Marchio became Music Director of the Chorale in 2010. \nAlign Dance Company\nALIGN is a creative dance space in Sandwich\, Massachusetts where students feel comfortable to learn and grow. Through 1:1 coaching\, group training\, and a variety of classes\, Align’s dedicated professionals and educators lead dancers to success in whatever form they pursue\, from strengthening their core values as they grow into confident young humans to finding a place in the professional or pre-professional dance world. \nCape Symphony Youth Orchestra\nThe Cape Symphony Youth Orchestra is the flagship ensemble of the Cape Symphony Youth Orchestra Program. Music Director and Conductor Mark Miller\, Principal Clarinet of the Cape Symphony Orchestra\, has more than 35 years’ experience working with talented youth orchestra musicians.
URL:https://artsfalmouth.org/event/capepops-holiday-on-the-cape-2/
LOCATION:Barnstable Performing Arts Center\, 744 West Main Street\, Hyannis\, 02601
CATEGORIES:Christmas,Classical music,Holiday events,Holiday Festivals,orchestra
ATTACH;FMTTYPE=image/jpeg:https://artsfalmouth.org/wp-content/uploads/2025/11/Holiday-2025_582x419-1.jpg
ORGANIZER;CN="Cape Symphony":MAILTO:info@capesymphony.org
END:VEVENT
END:VCALENDAR