BEGIN:VCALENDAR
VERSION:2.0
PRODID:-//ArtsFalmouth, Inc. - ECPv6.15.20//NONSGML v1.0//EN
CALSCALE:GREGORIAN
METHOD:PUBLISH
X-WR-CALNAME:ArtsFalmouth, Inc.
X-ORIGINAL-URL:https://artsfalmouth.org
X-WR-CALDESC:Events for ArtsFalmouth, Inc.
REFRESH-INTERVAL;VALUE=DURATION:PT1H
X-Robots-Tag:noindex
X-PUBLISHED-TTL:PT1H
BEGIN:VTIMEZONE
TZID:America/New_York
BEGIN:DAYLIGHT
TZOFFSETFROM:-0500
TZOFFSETTO:-0400
TZNAME:EDT
DTSTART:20240310T070000
END:DAYLIGHT
BEGIN:STANDARD
TZOFFSETFROM:-0400
TZOFFSETTO:-0500
TZNAME:EST
DTSTART:20241103T060000
END:STANDARD
BEGIN:DAYLIGHT
TZOFFSETFROM:-0500
TZOFFSETTO:-0400
TZNAME:EDT
DTSTART:20250309T070000
END:DAYLIGHT
BEGIN:STANDARD
TZOFFSETFROM:-0400
TZOFFSETTO:-0500
TZNAME:EST
DTSTART:20251102T060000
END:STANDARD
BEGIN:DAYLIGHT
TZOFFSETFROM:-0500
TZOFFSETTO:-0400
TZNAME:EDT
DTSTART:20260308T070000
END:DAYLIGHT
BEGIN:STANDARD
TZOFFSETFROM:-0400
TZOFFSETTO:-0500
TZNAME:EST
DTSTART:20261101T060000
END:STANDARD
END:VTIMEZONE
BEGIN:VEVENT
DTSTART;TZID=America/New_York:20251121T100000
DTEND;TZID=America/New_York:20251214T160000
DTSTAMP:20260423T193331
CREATED:20251029T145306Z
LAST-MODIFIED:20251029T145306Z
UID:14805-1763719200-1765728000@artsfalmouth.org
SUMMARY:Highfield Hall & Gardens Holidays at Highfield
DESCRIPTION:) Highfield Hall & Gardens is “Decking the Hall” for the 19th Annual Holidays at Highfield starting Friday\, November 21\, and running for four consecutive weekends\, Thursdays through Sundays\, except Thanksgiving Day.  Visit the decorated house and shop in our select artisan gift gallery. \nStep into the timeless magic of The Shopkeepers’ Noël—a captivating celebration of Victorian Christmas charm. Elegant\, enchanting\, and filled with nostalgic wonder\, each window tells a story\, and every room shimmers with holiday delight. \nEnjoy spectacular decorations\, festive music\, seasonal activities\, and whimsical displays that delight visitors of all ages. The beloved Gift Gallery returns with handcrafted artisan gifts\, and our holiday craft room offers hands-on projects to spark your creativity. \nThere is something extra for everyone! Artisan Gift Gallery\, crafts for all ages\, a pictorial scavenger hunt for children\, and an outdoor Story Walk featuring holiday and winter themed books. On Saturdays and Sundays\, we will have story reading for children\, and our favorite Snow Queen and Snow Princesses will make regular appearances. \nPrograms including holiday culinary\, felting\, and floral classes are scheduled throughout these weeks. These classes fill up fast\, so check out the website for dates and pricing information. \nNew this year we are twilight hours each Friday from 4:30 pm – 6:00 pm\, when the lights twinkle a little brighter and the magic of the season feels just a bit closer. During these special evening hours\, enjoy libations and light snacks as you stroll through a captivating celebration of Victorian Christmas charm.  \nThere is no better place to get into the holiday spirit than Holidays at Highfield.  Gather your friends and family and make Holidays at Highfield a treasured tradition. \nAdmission is $15 member/$20 non-member.  Military and children 16 and under are free.  Twilight Hours are $30 for adults. To attend Holidays at Highfield\, we recommend visitors pre-register\, although walk-ins are acceptable. For more information\, please visit highfieldhallandgardens.org \nHolidays at Highfield is made possible in part by the generous support of the Martha’s Vineyard Bank Charitable Trust\, and Rockland Trust. \nHoliday Hours: \nNovember 21st   – 23rd                                 10 am – 4 pm  \nNovember 28th  – November 30st             10 am – 4 pm  \nDecember 4th – 7th                                     10 am – 4 pm  \nDecember 11th – 14th                                    10 am – 4 pm  \n 
URL:https://artsfalmouth.org/event/highfield-hall-gardens-holidays-at-highfield/
LOCATION:Highfield Hall and Gardens\, 56 Highfield Drive\, Falmouth\, MA\, 02541\, United States
ATTACH;FMTTYPE=image/webp:https://artsfalmouth.org/wp-content/uploads/2025/10/Holidays-at-Highfield-2025.webp
ORGANIZER;CN="Highfield Hall and Gardens":MAILTO:info@highfieldhall.org
END:VEVENT
BEGIN:VEVENT
DTSTART;TZID=America/New_York:20251125T193000
DTEND;TZID=America/New_York:20251221T170000
DTSTAMP:20260423T193331
CREATED:20251029T155228Z
LAST-MODIFIED:20251029T155337Z
UID:14813-1764099000-1766336400@artsfalmouth.org
SUMMARY:Newsies at Cotuit Center for the Arts
DESCRIPTION:Cotuit Center for the Arts presents “Newsies” November 25 to December 21. Opening night is tuesday\, November 25\, at 7:30 PM. Other performances are Thursdays and Fridays at 7:30 PM\, Saturdays at 5 PM\, and Sundays at 2 PM. \nDirected by Michele Colley\, this Tony Award-winning musical brings to life the rousing true story of the 1899 New York City newsboys’ strike. With high-energy dance numbers\, unforgettable songs\, and an inspiring message about standing together for what’s right\, Newsies is a thrilling experience for audiences of all ages.\n \nTickets are $15 to $42. For details and more information\, click here: Tickets \n 
URL:https://artsfalmouth.org/event/newsies-at-cotuit-center-for-the-arts/
LOCATION:Cotuit Center for the Arts\, 4404 Falmouth Road\, Cotuit\, MA\, 02635\, United States
CATEGORIES:Theater
ATTACH;FMTTYPE=image/png:https://artsfalmouth.org/wp-content/uploads/2025/10/Newsies-4-x-6-scaled.png
ORGANIZER;CN="Cotuit Center for the Arts":MAILTO:info@cotuitcenterforthearts.org
END:VEVENT
END:VCALENDAR