BEGIN:VCALENDAR
VERSION:2.0
PRODID:-//ArtsFalmouth, Inc. - ECPv6.15.20//NONSGML v1.0//EN
CALSCALE:GREGORIAN
METHOD:PUBLISH
X-WR-CALNAME:ArtsFalmouth, Inc.
X-ORIGINAL-URL:https://artsfalmouth.org
X-WR-CALDESC:Events for ArtsFalmouth, Inc.
REFRESH-INTERVAL;VALUE=DURATION:PT1H
X-Robots-Tag:noindex
X-PUBLISHED-TTL:PT1H
BEGIN:VTIMEZONE
TZID:America/New_York
BEGIN:DAYLIGHT
TZOFFSETFROM:-0500
TZOFFSETTO:-0400
TZNAME:EDT
DTSTART:20250309T070000
END:DAYLIGHT
BEGIN:STANDARD
TZOFFSETFROM:-0400
TZOFFSETTO:-0500
TZNAME:EST
DTSTART:20251102T060000
END:STANDARD
BEGIN:DAYLIGHT
TZOFFSETFROM:-0500
TZOFFSETTO:-0400
TZNAME:EDT
DTSTART:20260308T070000
END:DAYLIGHT
BEGIN:STANDARD
TZOFFSETFROM:-0400
TZOFFSETTO:-0500
TZNAME:EST
DTSTART:20261101T060000
END:STANDARD
BEGIN:DAYLIGHT
TZOFFSETFROM:-0500
TZOFFSETTO:-0400
TZNAME:EDT
DTSTART:20270314T070000
END:DAYLIGHT
BEGIN:STANDARD
TZOFFSETFROM:-0400
TZOFFSETTO:-0500
TZNAME:EST
DTSTART:20271107T060000
END:STANDARD
END:VTIMEZONE
BEGIN:VEVENT
DTSTART;TZID=America/New_York:20260206T193000
DTEND;TZID=America/New_York:20260222T160000
DTSTAMP:20260423T162207
CREATED:20260129T202610Z
LAST-MODIFIED:20260129T202610Z
UID:15945-1770406200-1771776000@artsfalmouth.org
SUMMARY:Metamorphoses at Cotuit Center for the Arts
DESCRIPTION:Cotuit Center for the Arts invites audiences to immerse themselves in the breathtaking world of Metamorphoses\, a spellbinding theatrical masterpiece inspired by Ovid’s ancient myths. Directed by Jason R. Mellin\, this evocative production runs February 6 through February 22 and brings stories of love\, loss\, transformation\, and redemption vividly to life. \nWritten by Tony Award–winning playwright Mary Zimmerman\, Metamorphoses masterfully blends classical mythology with contemporary themes\, using poetic language and striking visual storytelling to explore what it means to change\, to grieve\, and to love. Set within a fluid\, dreamlike world where gods and mortals collide\, the production blurs the boundary between myth and reality—creating an unforgettable theatrical experience that resonates long after the final moment. \n“Metamorphoses reminds us that change is inevitable—and often beautiful\, even when it’s painful\,” said director Jason R. Mellin. “This play speaks to the heart in a way few stories can. It’s visually stunning\, emotionally raw\, and deeply human. We’ve assembled an incredible ensemble\, and I truly believe this is a production audiences will feel in their bones.” \nPerformances will take place Fridays at 7:30 PM\, Saturdays at 5:00 PM\, and Sundays at 2:00 PM. \nThe cast includes: Lily Anderson\, Amelia Burbine\, Bill Farrell\, Emma Fitzpatrick\, Drew Frayre\, Janet Geist Moore\, Maeve Moriarty\, Erica Morris\, Avila Rudd\, Sam Sewell\, Pete Steedman\, Rachel Walman\, and Shelley West. \nGenerous support for Cotuit Center for the Arts’ main stage theater productions is graciously provided in tribute to John McGraw. \nWith its powerful performances\, immersive design\, and timeless themes\, Metamorphoses offers audiences an opportunity to experience theater at its most transformative. \nTickets are on sale now\, and early reservations are strongly encouraged. \nFor tickets and more information\, visit cotuit.org. \n 
URL:https://artsfalmouth.org/event/metamorphoses-at-cotuit-center-for-the-arts/
LOCATION:Cotuit Center for the Arts\, 4404 Falmouth Road\, Cotuit\, MA\, 02635\, United States
CATEGORIES:Theater
ATTACH;FMTTYPE=image/webp:https://artsfalmouth.org/wp-content/uploads/2026/01/Metamorphoses-680x360-2_63b0d37c4fd76ea4f776080c4f700bf6.webp
ORGANIZER;CN="Cotuit Center for the Arts":MAILTO:info@cotuitcenterforthearts.org
END:VEVENT
BEGIN:VEVENT
DTSTART;TZID=America/New_York:20260221T193000
DTEND;TZID=America/New_York:20260221T213000
DTSTAMP:20260423T162207
CREATED:20260205T063237Z
LAST-MODIFIED:20260205T063237Z
UID:16063-1771702200-1771709400@artsfalmouth.org
SUMMARY:Cape Symphony: Ragtime\, Blues\, & All That Jazz
DESCRIPTION:Step into a world of toe-tapping rhythms as Byron Stripling returns to the Cape Symphony stage to take you on a high-spirited journey through these iconic American genres in signature style\, with plenty of entertaining and humorous vignettes along the way. The program showcases ragtime master Scott Joplin\, blues legend Muddy Waters\, and more\, with a rousing finale you won’t soon forget. Byron is joined by Bobby Floyd of the Ray Charles\, Dr. John\, and Count Basie Bands. \nFor tickets\, visit www.capesymphony.org\, call the Cape Symphony Box Office at 508.362.1111\, email tickets@capesymphony.org\, or visit the Box Office at 2235 Iyannough Road in West Barnstable\, Monday – Friday from 9:00 AM – 5:00 PM. Tickets are discounted 20% for veterans and active military and 50% for students aged 6 – 22. Only tickets purchased on Cape Symphony’s secure website or through the Cape Symphony Box Office are legitimate and guaranteed.
URL:https://artsfalmouth.org/event/cape-symphony-ragtime-blues-all-that-jazz-2/
LOCATION:Barnstable Performing Arts Center\, 744 West Main Street\, Hyannis\, 02601
CATEGORIES:Blues,Classical music,Concerts,Jazz,Live concerts
ATTACH;FMTTYPE=image/png:https://artsfalmouth.org/wp-content/uploads/2026/02/600x400-ragtime.png
ORGANIZER;CN="Cape Symphony":MAILTO:info@capesymphony.org
END:VEVENT
END:VCALENDAR