BEGIN:VCALENDAR
VERSION:2.0
PRODID:-//ArtsFalmouth, Inc. - ECPv6.15.20//NONSGML v1.0//EN
CALSCALE:GREGORIAN
METHOD:PUBLISH
X-ORIGINAL-URL:https://artsfalmouth.org
X-WR-CALDESC:Events for ArtsFalmouth, Inc.
REFRESH-INTERVAL;VALUE=DURATION:PT1H
X-Robots-Tag:noindex
X-PUBLISHED-TTL:PT1H
BEGIN:VTIMEZONE
TZID:America/New_York
BEGIN:DAYLIGHT
TZOFFSETFROM:-0500
TZOFFSETTO:-0400
TZNAME:EDT
DTSTART:20250309T070000
END:DAYLIGHT
BEGIN:STANDARD
TZOFFSETFROM:-0400
TZOFFSETTO:-0500
TZNAME:EST
DTSTART:20251102T060000
END:STANDARD
BEGIN:DAYLIGHT
TZOFFSETFROM:-0500
TZOFFSETTO:-0400
TZNAME:EDT
DTSTART:20260308T070000
END:DAYLIGHT
BEGIN:STANDARD
TZOFFSETFROM:-0400
TZOFFSETTO:-0500
TZNAME:EST
DTSTART:20261101T060000
END:STANDARD
BEGIN:DAYLIGHT
TZOFFSETFROM:-0500
TZOFFSETTO:-0400
TZNAME:EDT
DTSTART:20270314T070000
END:DAYLIGHT
BEGIN:STANDARD
TZOFFSETFROM:-0400
TZOFFSETTO:-0500
TZNAME:EST
DTSTART:20271107T060000
END:STANDARD
END:VTIMEZONE
BEGIN:VEVENT
DTSTART;TZID=America/New_York:20260319T180000
DTEND;TZID=America/New_York:20260319T193000
DTSTAMP:20260423T145750
CREATED:20260301T172728Z
LAST-MODIFIED:20260301T172833Z
UID:16239-1773943200-1773948600@artsfalmouth.org
SUMMARY:Tea Time Book Club – Commonwealth: A Novel by Ann Patchett
DESCRIPTION:The Tea Time Book Club meets once a month on the third Thursday at 6 p.m. Each time we meet\, we’ll enjoy tea and take some time to catch up and get to know each other. We’ll discuss the book of the month and everyone will have an opportunity to recommend a book for the group to vote on for upcoming months. \nThe selection for the March 19 meeting is Commonwealth by Ann Patchett. The acclaimed\, bestselling author—winner of the PEN/Faulkner Award and the Orange Prize—tells the enthralling story of how an unexpected romantic encounter irrevocably changes two families’ lives. \n“Patchett brings humanity\, humor\, and a disarming affection to lovable\, struggling characters… Irresistible.” – Library Journal \n“Commonwealth is an all-American family saga\, but her touching and even-handed approach to themes such as family politics\, love\, the role of literature and the acidic nature of lies is buoyed by a generous sprinkling of matter-of-fact humor” – BookPage
URL:https://artsfalmouth.org/event/tea-time-book-club-commonwealth-a-novel-by-ann-patchett/
LOCATION:West Falmouth Library\, 575 West Falmouth Highway\, West Falmouth\, MA\, 02574\, United States
CATEGORIES:Book clubs
ATTACH;FMTTYPE=image/png:https://artsfalmouth.org/wp-content/uploads/2026/02/Tea-Time-Bookclub-2-scaled.png
ORGANIZER;CN="West Falmouth Library":MAILTO:wfal_mail@clamsnet.org
END:VEVENT
END:VCALENDAR