BEGIN:VCALENDAR
VERSION:2.0
PRODID:-//ArtsFalmouth, Inc. - ECPv6.15.20//NONSGML v1.0//EN
CALSCALE:GREGORIAN
METHOD:PUBLISH
X-ORIGINAL-URL:https://artsfalmouth.org
X-WR-CALDESC:Events for ArtsFalmouth, Inc.
REFRESH-INTERVAL;VALUE=DURATION:PT1H
X-Robots-Tag:noindex
X-PUBLISHED-TTL:PT1H
BEGIN:VTIMEZONE
TZID:America/New_York
BEGIN:DAYLIGHT
TZOFFSETFROM:-0500
TZOFFSETTO:-0400
TZNAME:EDT
DTSTART:20250309T070000
END:DAYLIGHT
BEGIN:STANDARD
TZOFFSETFROM:-0400
TZOFFSETTO:-0500
TZNAME:EST
DTSTART:20251102T060000
END:STANDARD
BEGIN:DAYLIGHT
TZOFFSETFROM:-0500
TZOFFSETTO:-0400
TZNAME:EDT
DTSTART:20260308T070000
END:DAYLIGHT
BEGIN:STANDARD
TZOFFSETFROM:-0400
TZOFFSETTO:-0500
TZNAME:EST
DTSTART:20261101T060000
END:STANDARD
BEGIN:DAYLIGHT
TZOFFSETFROM:-0500
TZOFFSETTO:-0400
TZNAME:EDT
DTSTART:20270314T070000
END:DAYLIGHT
BEGIN:STANDARD
TZOFFSETFROM:-0400
TZOFFSETTO:-0500
TZNAME:EST
DTSTART:20271107T060000
END:STANDARD
END:VTIMEZONE
BEGIN:VEVENT
DTSTART;TZID=America/New_York:20260412T130000
DTEND;TZID=America/New_York:20260412T140000
DTSTAMP:20260423T132544
CREATED:20260301T172537Z
LAST-MODIFIED:20260301T172537Z
UID:16306-1775998800-1776002400@artsfalmouth.org
SUMMARY:“Amelia Earhart: Pioneer in Innovation” by Sheryl Faye
DESCRIPTION:Sherly Faye\, who performs one-woman shows around the world\,  will portray Amelia Earhart! “Amelia Earhart: Pioneer in Innovation” on Sunday\, April 12\, at 1 PM. \nRegistration is required. A donation of $20 is suggested donation. This event is intended for adult patrons but the entire family is welcome to join. \nAmelia Earhart’s fearless\, adventuresome spirit leads to hair-raising rides down her homemade roller coaster\, and she is enthralled with the wonders of the new “flying machines” during a family vacation to the Iowa State Fair. As she matures\, she is fulfilled by her work as a nurse’s aide and begins to consider a career in medicine. This idea “flies out the window\,” however\, when she pays a pilot $1.00 to take her up for a short “hop” in his plane. From then on\, the science of aviation becomes her passion as flying becomes her career. \nShe follows her dreams with an indomitable spirit\, and her story will inspire everyone to pursue their own budding interests\, whatever they may be\, and will also reinforce the importance of family\, respect for others and individuality.
URL:https://artsfalmouth.org/event/amelia-earhart-pioneer-in-innovation-by-sheryl-faye/
LOCATION:West Falmouth Library\, 575 West Falmouth Highway\, West Falmouth\, MA\, 02574\, United States
CATEGORIES:Historical reenactments
ATTACH;FMTTYPE=image/png:https://artsfalmouth.org/wp-content/uploads/2026/02/Sheryl-Faye-Amelia-Earhart-scaled.png
ORGANIZER;CN="West Falmouth Library":MAILTO:wfal_mail@clamsnet.org
END:VEVENT
END:VCALENDAR