BEGIN:VCALENDAR
VERSION:2.0
PRODID:-//ArtsFalmouth, Inc. - ECPv6.15.20//NONSGML v1.0//EN
CALSCALE:GREGORIAN
METHOD:PUBLISH
X-WR-CALNAME:ArtsFalmouth, Inc.
X-ORIGINAL-URL:https://artsfalmouth.org
X-WR-CALDESC:Events for ArtsFalmouth, Inc.
REFRESH-INTERVAL;VALUE=DURATION:PT1H
X-Robots-Tag:noindex
X-PUBLISHED-TTL:PT1H
BEGIN:VTIMEZONE
TZID:America/New_York
BEGIN:DAYLIGHT
TZOFFSETFROM:-0500
TZOFFSETTO:-0400
TZNAME:EDT
DTSTART:20250309T070000
END:DAYLIGHT
BEGIN:STANDARD
TZOFFSETFROM:-0400
TZOFFSETTO:-0500
TZNAME:EST
DTSTART:20251102T060000
END:STANDARD
BEGIN:DAYLIGHT
TZOFFSETFROM:-0500
TZOFFSETTO:-0400
TZNAME:EDT
DTSTART:20260308T070000
END:DAYLIGHT
BEGIN:STANDARD
TZOFFSETFROM:-0400
TZOFFSETTO:-0500
TZNAME:EST
DTSTART:20261101T060000
END:STANDARD
BEGIN:DAYLIGHT
TZOFFSETFROM:-0500
TZOFFSETTO:-0400
TZNAME:EDT
DTSTART:20270314T070000
END:DAYLIGHT
BEGIN:STANDARD
TZOFFSETFROM:-0400
TZOFFSETTO:-0500
TZNAME:EST
DTSTART:20271107T060000
END:STANDARD
END:VTIMEZONE
BEGIN:VEVENT
DTSTART;TZID=America/New_York:20260426T150000
DTEND;TZID=America/New_York:20260426T170000
DTSTAMP:20260423T142728
CREATED:20260324T154829Z
LAST-MODIFIED:20260324T154829Z
UID:16626-1777215600-1777222800@artsfalmouth.org
SUMMARY:Favorite Poem Project
DESCRIPTION:In partnership with Calliope Poetry\, we are so pleased to once again host the Favorite Poem Project on Sunday\, April 26\, from 3 to 5 PM. Join us in hearing community members from all walks of life share their favorite poem and what makes it special to them. \nAbout the Favorite Poem Project: At its inception\, the Favorite Poem Project put out an open call for people across the country to share their favorite poems. Eighteen thousand Americans—from ages 5 to 97\, from every state\, representing a range of occupations\, kinds of education\, and backgrounds—wrote to the project. From those thousands of letters and emails\, the Favorite Poem Project created a series of short documentaries and anthologies. The project continues to create short films and educational resources\, and to host readings\, in order to document and encourage the sharing of poetry across the world.
URL:https://artsfalmouth.org/event/favorite-poem-project/
LOCATION:West Falmouth Library\, 575 West Falmouth Highway\, West Falmouth\, MA\, 02574\, United States
CATEGORIES:Poetry
ATTACH;FMTTYPE=image/png:https://artsfalmouth.org/wp-content/uploads/2026/03/Favorite-Poem-Project-.png
ORGANIZER;CN="West Falmouth Library":MAILTO:wfal_mail@clamsnet.org
END:VEVENT
END:VCALENDAR