BEGIN:VCALENDAR
VERSION:2.0
PRODID:-//ArtsFalmouth, Inc. - ECPv6.15.20//NONSGML v1.0//EN
CALSCALE:GREGORIAN
METHOD:PUBLISH
X-WR-CALNAME:ArtsFalmouth, Inc.
X-ORIGINAL-URL:https://artsfalmouth.org
X-WR-CALDESC:Events for ArtsFalmouth, Inc.
REFRESH-INTERVAL;VALUE=DURATION:PT1H
X-Robots-Tag:noindex
X-PUBLISHED-TTL:PT1H
BEGIN:VTIMEZONE
TZID:America/New_York
BEGIN:DAYLIGHT
TZOFFSETFROM:-0500
TZOFFSETTO:-0400
TZNAME:EDT
DTSTART:20250309T070000
END:DAYLIGHT
BEGIN:STANDARD
TZOFFSETFROM:-0400
TZOFFSETTO:-0500
TZNAME:EST
DTSTART:20251102T060000
END:STANDARD
BEGIN:DAYLIGHT
TZOFFSETFROM:-0500
TZOFFSETTO:-0400
TZNAME:EDT
DTSTART:20260308T070000
END:DAYLIGHT
BEGIN:STANDARD
TZOFFSETFROM:-0400
TZOFFSETTO:-0500
TZNAME:EST
DTSTART:20261101T060000
END:STANDARD
BEGIN:DAYLIGHT
TZOFFSETFROM:-0500
TZOFFSETTO:-0400
TZNAME:EDT
DTSTART:20270314T070000
END:DAYLIGHT
BEGIN:STANDARD
TZOFFSETFROM:-0400
TZOFFSETTO:-0500
TZNAME:EST
DTSTART:20271107T060000
END:STANDARD
END:VTIMEZONE
BEGIN:VEVENT
DTSTART;TZID=America/New_York:20260209T200000
DTEND;TZID=America/New_York:20260209T203000
DTSTAMP:20260423T182052
CREATED:20260204T190341Z
LAST-MODIFIED:20260204T190352Z
UID:16009-1770667200-1770669000@artsfalmouth.org
SUMMARY:Online Pre-Release Listening Session: "Ba-Da-Bu Ba" by WAMPTRONICA
DESCRIPTION:Poly-Groove Records invites you to an online listening party on Bandcamp celebrating Ba-Da-Bu-Ba\, a project rooted in groove\, improvisation\, and collective listening. \nThe event takes place Tuesday\, February 10\, from 8 to 8:30 PM at Bandcamp Listening Party. \nThis is not a performance or livestreamed set. It is a shared listening experience: the music played front to back\, in real time\, with space for reflection\, conversation\, and presence. Listeners are invited to tune in from wherever they are and experience the project as a continuous work\, rather than as isolated tracks. \nBa-Da-Bu-Ba sits at the intersection of deep rhythm\, jazz sensibility\, and Afro-diasporic musical traditions. The listening party creates a space outside of algorithms and playlists\, returning to a slower\, more intentional way of engaging with music—together. \nDate: February 10\, 2026\nTime: 8:00 pm\nLocation: Online — Bandcamp Listening Party\nhttps://polygrooverecords.bandcamp.com/…/ba-da-bu-ba…\nHost: Poly-Groove Records\nArtist: WAMPTRONICA\nHeadphones encouraged.\nConversation welcome.\nThere is no charge to attend.\nThis event is open to longtime listeners\, collaborators\, and anyone interested in music that values musicianship\, groove\, and communal experience.
URL:https://artsfalmouth.org/event/online-pre-release-listening-session-ba-da-bu-ba-by-wamptronica/
LOCATION:Online\, 12 Constance Street\, London\, E16 2DQ
CATEGORIES:African American culture,Dance music,EDM (electronic dance music)
ATTACH;FMTTYPE=image/jpeg:https://artsfalmouth.org/wp-content/uploads/2026/02/Ba-Da-Bu-Ba-2.jpg
ORGANIZER;CN="Poly-Groove Records":MAILTO:polygrooverecords@gmail.com
END:VEVENT
END:VCALENDAR