BEGIN:VCALENDAR
VERSION:2.0
PRODID:-//ArtsFalmouth, Inc. - ECPv6.15.20//NONSGML v1.0//EN
CALSCALE:GREGORIAN
METHOD:PUBLISH
X-WR-CALNAME:ArtsFalmouth, Inc.
X-ORIGINAL-URL:https://artsfalmouth.org
X-WR-CALDESC:Events for ArtsFalmouth, Inc.
REFRESH-INTERVAL;VALUE=DURATION:PT1H
X-Robots-Tag:noindex
X-PUBLISHED-TTL:PT1H
BEGIN:VTIMEZONE
TZID:America/New_York
BEGIN:DAYLIGHT
TZOFFSETFROM:-0500
TZOFFSETTO:-0400
TZNAME:EDT
DTSTART:20250309T070000
END:DAYLIGHT
BEGIN:STANDARD
TZOFFSETFROM:-0400
TZOFFSETTO:-0500
TZNAME:EST
DTSTART:20251102T060000
END:STANDARD
BEGIN:DAYLIGHT
TZOFFSETFROM:-0500
TZOFFSETTO:-0400
TZNAME:EDT
DTSTART:20260308T070000
END:DAYLIGHT
BEGIN:STANDARD
TZOFFSETFROM:-0400
TZOFFSETTO:-0500
TZNAME:EST
DTSTART:20261101T060000
END:STANDARD
BEGIN:DAYLIGHT
TZOFFSETFROM:-0500
TZOFFSETTO:-0400
TZNAME:EDT
DTSTART:20270314T070000
END:DAYLIGHT
BEGIN:STANDARD
TZOFFSETFROM:-0400
TZOFFSETTO:-0500
TZNAME:EST
DTSTART:20271107T060000
END:STANDARD
END:VTIMEZONE
BEGIN:VEVENT
DTSTART;TZID=America/New_York:20260331T160000
DTEND;TZID=America/New_York:20260331T173000
DTSTAMP:20260423T173938
CREATED:20260314T215651Z
LAST-MODIFIED:20260314T215651Z
UID:16486-1774972800-1774978200@artsfalmouth.org
SUMMARY:Dungeons and Dragons: Sculpt a Glass Dragon Eye
DESCRIPTION:A dragon’s eye shines through a crack in the mountain side. With a glare of the eye\, the dragon warns any thieves that may try to steal their treasure from beneath their feet. It is also said that a dragon’s eye sees far more than the human eye making it an essential piece of any adventurer’s pack. Some dragon’s eyes are stronger than others…Ones made of cloth and metal are helpful but to truly use the power of the dragon eye\, it must be made of glass and the earth of a dragon’s mountain. The painting of the dragon’s eye gives it special strengths that vary due to the design\, colors\, and look. If done correctly\, it may lead an adventurer to a priceless dragon’s egg. A dragon to be born of the adventurer… \nAre you heading out on an adventure anytime soon? Well\, a glass dragon’s eye is a necessity for success! Don’t have one? Falmouth Public Library has you covered. At the Falmouth Public Library – Main Branch on Tuesday\, March 31st\, 2026\, we will be hosting a Dragon Eye Creation Workshop to bring on your adventures in real life or in the land of imagination during your Dungeons and Dragons campaigns. The event is 100% free and all materials are provided free of charge. The event will run from 4:00 PM – 5:30 PM in the Young Adult Room. \nRegistration is required! You can register by visiting our online calendar located on our webpage or give us a call at 508-457-2555 x2931. If you’re at the library and really excited\, we’ll do it in person! \nThe program is intended for ages 11+ and due to limited materials\, requires registration and fills up fast\, so grab your seat now! You’ll bring your whole creation home for your next adventure! The workshop is taught by our friends at Pop-Up Art School who brought our very successful Dungeons and Dragons Dice Box Making Workshop to FPL.
URL:https://artsfalmouth.org/event/dungeons-and-dragons-sculpt-a-glass-dragon-eye/
LOCATION:Falmouth Public Library\, 300 Main Street\, Falmouth\, MA\, 02540\, United States
CATEGORIES:Art,Art classes,Craft activity,Games,Teen events
ATTACH;FMTTYPE=image/jpeg:https://artsfalmouth.org/wp-content/uploads/2026/03/Dragon-Eye-JPEG.jpg
ORGANIZER;CN="Falmouth Public Library":MAILTO:info@falmouthpubliclibrary
END:VEVENT
END:VCALENDAR