BEGIN:VCALENDAR
VERSION:2.0
PRODID:-//ArtsFalmouth, Inc. - ECPv6.15.20//NONSGML v1.0//EN
CALSCALE:GREGORIAN
METHOD:PUBLISH
X-ORIGINAL-URL:https://artsfalmouth.org
X-WR-CALDESC:Events for ArtsFalmouth, Inc.
REFRESH-INTERVAL;VALUE=DURATION:PT1H
X-Robots-Tag:noindex
X-PUBLISHED-TTL:PT1H
BEGIN:VTIMEZONE
TZID:America/New_York
BEGIN:DAYLIGHT
TZOFFSETFROM:-0500
TZOFFSETTO:-0400
TZNAME:EDT
DTSTART:20250309T070000
END:DAYLIGHT
BEGIN:STANDARD
TZOFFSETFROM:-0400
TZOFFSETTO:-0500
TZNAME:EST
DTSTART:20251102T060000
END:STANDARD
BEGIN:DAYLIGHT
TZOFFSETFROM:-0500
TZOFFSETTO:-0400
TZNAME:EDT
DTSTART:20260308T070000
END:DAYLIGHT
BEGIN:STANDARD
TZOFFSETFROM:-0400
TZOFFSETTO:-0500
TZNAME:EST
DTSTART:20261101T060000
END:STANDARD
BEGIN:DAYLIGHT
TZOFFSETFROM:-0500
TZOFFSETTO:-0400
TZNAME:EDT
DTSTART:20270314T070000
END:DAYLIGHT
BEGIN:STANDARD
TZOFFSETFROM:-0400
TZOFFSETTO:-0500
TZNAME:EST
DTSTART:20271107T060000
END:STANDARD
END:VTIMEZONE
BEGIN:VEVENT
DTSTART;TZID=America/New_York:20260204T153000
DTEND;TZID=America/New_York:20260204T170000
DTSTAMP:20260423T192740
CREATED:20260108T051921Z
LAST-MODIFIED:20260108T051921Z
UID:15726-1770219000-1770224400@artsfalmouth.org
SUMMARY:International Book Group – Midaq Alley by Najīb Maḥfūẓ
DESCRIPTION:The International Book Group at West Falmouth Library is a volunteer-led group that meets on the first Wednesday of each month 3:45-5 p.m. Selections have either foreign settings or foreign authors\, usually both. New members are always welcome! Annual registration is requested to receive important communications about schedule or location changes. Meetings are both in-person and on Zoom. \nConsidered by many to be Mahfouz’s best novel\, Midaq Alley centers around the residents of one of the hustling\, teeming back alleys of Cairo. No other novel so vividly evokes the sights and sounds of the city. The universality and timelessness of this book cannot be denied. \n“Naguib Mahfouz virtually invented the novel as an Arab form. He excels at fusing deep emotion and soap opera.” —The New York Times Book Review \n“Mahfouz’s work is freshly nuanced and hauntingly lyrical. The Nobel Prize acknowledges the universal significance of his fiction.” —Los Angeles Times Book Review
URL:https://artsfalmouth.org/event/international-book-group-midaq-alley-by-najib-ma%e1%b8%a5fu%e1%ba%93/
LOCATION:West Falmouth Library\, 575 West Falmouth Highway\, West Falmouth\, MA\, 02574\, United States
CATEGORIES:Book clubs
ATTACH;FMTTYPE=image/jpeg:https://artsfalmouth.org/wp-content/uploads/2026/01/midaq.jpg
ORGANIZER;CN="West Falmouth Library":MAILTO:wfal_mail@clamsnet.org
END:VEVENT
BEGIN:VEVENT
DTSTART;TZID=America/New_York:20260210T133000
DTEND;TZID=America/New_York:20260210T150000
DTSTAMP:20260423T192740
CREATED:20260120T215347Z
LAST-MODIFIED:20260120T215420Z
UID:15856-1770730200-1770735600@artsfalmouth.org
SUMMARY:WFL Book Club – Crossing to Safety
DESCRIPTION:WFL’s volunteer led book club’s February selection is Crossing to Safety by Wallace Stegner. All are welcome to join on Tuesday\, February 10 at 1:30 p.m. Annual registration is requested to receive important communications about schedule or location changes. Called a “magnificently crafted story . . . brimming with wisdom” by Howard Frank Mosher in The Washington Post Book World\, Crossing to Safety has\, since its publication in 1987\, established itself as one of the greatest and most cherished American novels of the twentieth century. Tracing the lives\, loves\, and aspirations of two couples who move between Vermont and Wisconsin\, it is a work of quiet majesty\, deep compassion\, and powerful insight into the alchemy of friendship and marriage. \n“A superb book. . . . Nothing in these lives is lost or wasted\, suffering becomes an enriching benediction\, and life itself a luminous experience.”–Doris Grumbach
URL:https://artsfalmouth.org/event/wfl-book-club-crossing-to-safety/
LOCATION:West Falmouth Library\, 575 West Falmouth Highway\, West Falmouth\, MA\, 02574\, United States
CATEGORIES:Book clubs
ATTACH;FMTTYPE=image/png:https://artsfalmouth.org/wp-content/uploads/2026/01/2026-WFL-Book-Club-.png
ORGANIZER;CN="West Falmouth Library":MAILTO:wfal_mail@clamsnet.org
END:VEVENT
BEGIN:VEVENT
DTSTART;TZID=America/New_York:20260219T180000
DTEND;TZID=America/New_York:20260219T200000
DTSTAMP:20260423T192740
CREATED:20260120T183804Z
LAST-MODIFIED:20260120T183804Z
UID:15851-1771524000-1771531200@artsfalmouth.org
SUMMARY:Tea Time Book Club – Anxious People: a Novel by Fredrik Backman
DESCRIPTION:The Tea Time Book Club meets once a month on the third Thursday at 6 p.m. Each time we meet\, we’ll enjoy tea and take some time to catch up and get to know each other. We’ll discuss the book of the month and everyone will have an opportunity to recommend a book for the group to vote on for upcoming months. \nThe selection for the February 19 meeting is Anxious People: a Novel by Fredrik Backman. Taken hostage by a failed bank robber while attending an open house\, eight anxiety-prone strangers—including a redemption-seeking bank director\, two couples who would fix their marriages\, and a plucky octogenarian—discover their unexpected common traits. \n“A deeply funny and warm examination of how individual experiences can bring a random group of people together. Backman reveals each character’s many imperfections with tremendous empathy\, reminding us that people are always more than the sum of their flaws.” —BookPage \n“The perfect balance of heartwarming and heart-wrenching\, and Fredrik Backman has a way of simply yet elegantly describing relationships. We can all be idiots\, but we’re still all human beings worthy of connection and love.” –NPR
URL:https://artsfalmouth.org/event/tea-time-book-club-anxious-people-a-novel-by-fredrik-backman/
LOCATION:West Falmouth Library\, 575 West Falmouth Highway\, West Falmouth\, MA\, 02574\, United States
CATEGORIES:Book clubs
ATTACH;FMTTYPE=image/png:https://artsfalmouth.org/wp-content/uploads/2026/01/Tea-time-Feb-2026.png
ORGANIZER;CN="West Falmouth Library":MAILTO:wfal_mail@clamsnet.org
END:VEVENT
BEGIN:VEVENT
DTSTART;TZID=America/New_York:20260225T130000
DTEND;TZID=America/New_York:20260225T143000
DTSTAMP:20260423T192740
CREATED:20260129T201611Z
LAST-MODIFIED:20260129T201611Z
UID:15910-1772024400-1772029800@artsfalmouth.org
SUMMARY:Afternoon Page Turners Book Club – Heartwood by Amity Gaige
DESCRIPTION:A new monthly book club at West Falmouth Library starts in February! The Afternoon Page Turners will meet the last Wednesday of each month at 1 PM at the Library. All are welcome to join! Our first selection\, for the February 25 meeting\, is Heartwood: A Novel by Amity Gaige. \n“The best thriller of 2025.” —The Boston Globe * “Genius.” —The Washington Post \n“A literary thriller of the highest order” (Elin Hilderbrand\, New York Times bestselling author of The Perfect Couple)\, Heartwood takes you on a gripping journey as a search and rescue team race against time after a woman mysteriously disappears on the Appalachian Trail.
URL:https://artsfalmouth.org/event/afternoon-page-turners-book-club-heartwood-by-amity-gaige/
LOCATION:West Falmouth Library\, 575 West Falmouth Highway\, West Falmouth\, MA\, 02574\, United States
CATEGORIES:Book clubs
ATTACH;FMTTYPE=image/png:https://artsfalmouth.org/wp-content/uploads/2026/01/Afternoon-Page-Turners-Book-Club--scaled.png
ORGANIZER;CN="West Falmouth Library":MAILTO:wfal_mail@clamsnet.org
END:VEVENT
END:VCALENDAR