BEGIN:VCALENDAR
VERSION:2.0
PRODID:-//ArtsFalmouth, Inc. - ECPv6.15.20//NONSGML v1.0//EN
CALSCALE:GREGORIAN
METHOD:PUBLISH
X-ORIGINAL-URL:https://artsfalmouth.org
X-WR-CALDESC:Events for ArtsFalmouth, Inc.
REFRESH-INTERVAL;VALUE=DURATION:PT1H
X-Robots-Tag:noindex
X-PUBLISHED-TTL:PT1H
BEGIN:VTIMEZONE
TZID:America/New_York
BEGIN:DAYLIGHT
TZOFFSETFROM:-0500
TZOFFSETTO:-0400
TZNAME:EDT
DTSTART:20250309T070000
END:DAYLIGHT
BEGIN:STANDARD
TZOFFSETFROM:-0400
TZOFFSETTO:-0500
TZNAME:EST
DTSTART:20251102T060000
END:STANDARD
BEGIN:DAYLIGHT
TZOFFSETFROM:-0500
TZOFFSETTO:-0400
TZNAME:EDT
DTSTART:20260308T070000
END:DAYLIGHT
BEGIN:STANDARD
TZOFFSETFROM:-0400
TZOFFSETTO:-0500
TZNAME:EST
DTSTART:20261101T060000
END:STANDARD
BEGIN:DAYLIGHT
TZOFFSETFROM:-0500
TZOFFSETTO:-0400
TZNAME:EDT
DTSTART:20270314T070000
END:DAYLIGHT
BEGIN:STANDARD
TZOFFSETFROM:-0400
TZOFFSETTO:-0500
TZNAME:EST
DTSTART:20271107T060000
END:STANDARD
END:VTIMEZONE
BEGIN:VEVENT
DTSTART;TZID=America/New_York:20260502T120000
DTEND;TZID=America/New_York:20260502T220000
DTSTAMP:20260423T164209
CREATED:20260302T144411Z
LAST-MODIFIED:20260302T144438Z
UID:16386-1777723200-1777759200@artsfalmouth.org
SUMMARY:Woods Hole Trad Stroll
DESCRIPTION:ArtsFalmouth’s Woods Hole Trad Stroll 2026 will take place Saturday\, May 2\, from noon to 5:30 in Woods Hole Community Hall and other indoor and outdoor venues throughout Woods Hole. The Stroll is free and open to the public. \nThe schedule of performances will be posted shortly. \nThe event includes an Artisans Market in the lower level of Community Hall and will be followed by the Woods Hole Contra Dance with the Woods Hole Folk Orchestra from 7:30 to 10 PM. The dance is $10 for adults and $5 for teens. \nRestaurants will be open throughout the afternoon and evening. We encourage Stoll attendees to take advantage of the break between Stroll and the Contra Dance to have dinner in one of the many excellent restaurants in Woods Hole. \nWe have a limited number of spaces available for Artisans Market vendors. Artists and craftspeople interested in participating in the Market may apply here: WHTS Artisans Market Application. We will review the applications to ensure quality and variety\, and notify applicants promptly.
URL:https://artsfalmouth.org/event/woods-hole-trad-stroll/
LOCATION:Woods Hole Community Hall\, 68 Water Street\, Woods Hole\, MA\, 02543\, United States
CATEGORIES:Celtic music,Contra dance,Country music,Dance,Fiddle music,Folk music,Irish music,Traditional music
ATTACH;FMTTYPE=image/jpeg:https://artsfalmouth.org/wp-content/uploads/2023/04/Woods-Hole-Trad-Stroll-fiddle-group-2022.jpg
ORGANIZER;CN="ArtsFalmouth":MAILTO:info@artsfalmouth.org
END:VEVENT
END:VCALENDAR