BEGIN:VCALENDAR
VERSION:2.0
PRODID:-//ArtsFalmouth, Inc. - ECPv6.15.20//NONSGML v1.0//EN
CALSCALE:GREGORIAN
METHOD:PUBLISH
X-ORIGINAL-URL:https://artsfalmouth.org
X-WR-CALDESC:Events for ArtsFalmouth, Inc.
REFRESH-INTERVAL;VALUE=DURATION:PT1H
X-Robots-Tag:noindex
X-PUBLISHED-TTL:PT1H
BEGIN:VTIMEZONE
TZID:America/New_York
BEGIN:DAYLIGHT
TZOFFSETFROM:-0500
TZOFFSETTO:-0400
TZNAME:EDT
DTSTART:20240310T070000
END:DAYLIGHT
BEGIN:STANDARD
TZOFFSETFROM:-0400
TZOFFSETTO:-0500
TZNAME:EST
DTSTART:20241103T060000
END:STANDARD
BEGIN:DAYLIGHT
TZOFFSETFROM:-0500
TZOFFSETTO:-0400
TZNAME:EDT
DTSTART:20250309T070000
END:DAYLIGHT
BEGIN:STANDARD
TZOFFSETFROM:-0400
TZOFFSETTO:-0500
TZNAME:EST
DTSTART:20251102T060000
END:STANDARD
BEGIN:DAYLIGHT
TZOFFSETFROM:-0500
TZOFFSETTO:-0400
TZNAME:EDT
DTSTART:20260308T070000
END:DAYLIGHT
BEGIN:STANDARD
TZOFFSETFROM:-0400
TZOFFSETTO:-0500
TZNAME:EST
DTSTART:20261101T060000
END:STANDARD
END:VTIMEZONE
BEGIN:VEVENT
DTSTART;TZID=America/New_York:20251205T160000
DTEND;TZID=America/New_York:20251205T180000
DTSTAMP:20260423T222928
CREATED:20251121T045148Z
LAST-MODIFIED:20251121T045755Z
UID:15117-1764950400-1764957600@artsfalmouth.org
SUMMARY:CapePOPS! Holiday on the Cape
DESCRIPTION:Bring on the sparkle and joy! Your Cape Symphony Orchestra plays all things merry and bright at our beloved Holiday on the Cape concert. We’ll have classic carols\, spirited sleigh bells\, and brilliant performances by Patrice Tiedemann\, the Chatham Chorale\, Align Dance Company\, and\, appearing specially at Saturday’s concerts\, the Cape Symphony Youth Orchestra. Bring family\, bring friends… there’s nothing like a Holiday on the Cape. \nAlyssa Wang takes the podium for the first time as Cape Symphony’s Music Director at these wonderful performances. \nPatrice Tiedemann\, Soprano\nPatrice Tiedemann’s performance highlights include appearances as a soloist with Boston Lyric Opera as The Water in the East Coast premiere of The Little Prince\, in Hansel & Gretel with the Rhode Island Philharmonic\, as Santuzza in Cavalleria Rusticana with the Pioneer Valley Symphony\, and as Rosalinda in Die Fledermaus with Opera Providence and Cape Cod Opera. \nShe has performed as a Holiday Pops soloist with the Boston Pops\, the Cape Symphony\, and the New Bedford Symphony\, and as the Mother Abbess in The Sound of Music with New Bedford Festival Theatre and Theatre by the Sea\, with the Boston Civic Symphony (Verdi’s Requiem)\, with the University Chorale of Boston College (Dubois’s Seven Last Words of Christ and Beethoven’s 9th Symphony) and nationwide in classical\, sacred\, and theatrical repertoire. \nAs Artistic Director of Seaglass Theater Company\, Ms. Tiedemann produces creatively staged performances of classic vocal repertoire for Southern New England. In 2021\, she served as the dramaturg and sang the role of Eliza Brock for the world premiere of Jodi Goble’s Whaling Women. \nChatham Chorale\nIncorporated in 1977\, the Chatham Chorale is dedicated to performing the world’s rich diversity of choral music and supporting the musical arts and artists on Cape Cod. Joe Marchio became Music Director of the Chorale in 2010. \nAlign Dance Company\nALIGN is a creative dance space in Sandwich\, Massachusetts where students feel comfortable to learn and grow. Through 1:1 coaching\, group training\, and a variety of classes\, Align’s dedicated professionals and educators lead dancers to success in whatever form they pursue\, from strengthening their core values as they grow into confident young humans to finding a place in the professional or pre-professional dance world. \nCape Symphony Youth Orchestra\nThe Cape Symphony Youth Orchestra is the flagship ensemble of the Cape Symphony Youth Orchestra Program. Music Director and Conductor Mark Miller\, Principal Clarinet of the Cape Symphony Orchestra\, has more than 35 years’ experience working with talented youth orchestra musicians.
URL:https://artsfalmouth.org/event/capepops-holiday-on-the-cape/
LOCATION:Barnstable Performing Arts Center\, 744 West Main Street\, Hyannis\, 02601
CATEGORIES:Christmas,Classical music,Holiday events,Holiday Festivals,orchestra
ATTACH;FMTTYPE=image/jpeg:https://artsfalmouth.org/wp-content/uploads/2025/11/Holiday-2025_582x419.jpg
ORGANIZER;CN="Cape Symphony":MAILTO:info@capesymphony.org
END:VEVENT
BEGIN:VEVENT
DTSTART;TZID=America/New_York:20251205T200000
DTEND;TZID=America/New_York:20251205T220000
DTSTAMP:20260423T222928
CREATED:20251121T045825Z
LAST-MODIFIED:20251121T045825Z
UID:15122-1764964800-1764972000@artsfalmouth.org
SUMMARY:CapePOPS! Holiday on the Cape
DESCRIPTION:Bring on the sparkle and joy! Your Cape Symphony Orchestra plays all things merry and bright at our beloved Holiday on the Cape concert. We’ll have classic carols\, spirited sleigh bells\, and brilliant performances by Patrice Tiedemann\, the Chatham Chorale\, Align Dance Company\, and\, appearing specially at Saturday’s concerts\, the Cape Symphony Youth Orchestra. Bring family\, bring friends… there’s nothing like a Holiday on the Cape. \nAlyssa Wang takes the podium for the first time as Cape Symphony’s Music Director at these wonderful performances. \nPatrice Tiedemann\, Soprano\nPatrice Tiedemann’s performance highlights include appearances as a soloist with Boston Lyric Opera as The Water in the East Coast premiere of The Little Prince\, in Hansel & Gretel with the Rhode Island Philharmonic\, as Santuzza in Cavalleria Rusticana with the Pioneer Valley Symphony\, and as Rosalinda in Die Fledermaus with Opera Providence and Cape Cod Opera. \nShe has performed as a Holiday Pops soloist with the Boston Pops\, the Cape Symphony\, and the New Bedford Symphony\, and as the Mother Abbess in The Sound of Music with New Bedford Festival Theatre and Theatre by the Sea\, with the Boston Civic Symphony (Verdi’s Requiem)\, with the University Chorale of Boston College (Dubois’s Seven Last Words of Christ and Beethoven’s 9th Symphony) and nationwide in classical\, sacred\, and theatrical repertoire. \nAs Artistic Director of Seaglass Theater Company\, Ms. Tiedemann produces creatively staged performances of classic vocal repertoire for Southern New England. In 2021\, she served as the dramaturg and sang the role of Eliza Brock for the world premiere of Jodi Goble’s Whaling Women. \nChatham Chorale\nIncorporated in 1977\, the Chatham Chorale is dedicated to performing the world’s rich diversity of choral music and supporting the musical arts and artists on Cape Cod. Joe Marchio became Music Director of the Chorale in 2010. \nAlign Dance Company\nALIGN is a creative dance space in Sandwich\, Massachusetts where students feel comfortable to learn and grow. Through 1:1 coaching\, group training\, and a variety of classes\, Align’s dedicated professionals and educators lead dancers to success in whatever form they pursue\, from strengthening their core values as they grow into confident young humans to finding a place in the professional or pre-professional dance world. \nCape Symphony Youth Orchestra\nThe Cape Symphony Youth Orchestra is the flagship ensemble of the Cape Symphony Youth Orchestra Program. Music Director and Conductor Mark Miller\, Principal Clarinet of the Cape Symphony Orchestra\, has more than 35 years’ experience working with talented youth orchestra musicians.
URL:https://artsfalmouth.org/event/capepops-holiday-on-the-cape-2/
LOCATION:Barnstable Performing Arts Center\, 744 West Main Street\, Hyannis\, 02601
CATEGORIES:Christmas,Classical music,Holiday events,Holiday Festivals,orchestra
ATTACH;FMTTYPE=image/jpeg:https://artsfalmouth.org/wp-content/uploads/2025/11/Holiday-2025_582x419-1.jpg
ORGANIZER;CN="Cape Symphony":MAILTO:info@capesymphony.org
END:VEVENT
BEGIN:VEVENT
DTSTART;TZID=America/New_York:20251206T150000
DTEND;TZID=America/New_York:20251206T170000
DTSTAMP:20260423T222928
CREATED:20251121T045915Z
LAST-MODIFIED:20251121T045915Z
UID:15127-1765033200-1765040400@artsfalmouth.org
SUMMARY:CapePOPS! Holiday on the Cape
DESCRIPTION:Bring on the sparkle and joy! Your Cape Symphony Orchestra plays all things merry and bright at our beloved Holiday on the Cape concert. We’ll have classic carols\, spirited sleigh bells\, and brilliant performances by Patrice Tiedemann\, the Chatham Chorale\, Align Dance Company\, and\, appearing specially at Saturday’s concerts\, the Cape Symphony Youth Orchestra. Bring family\, bring friends… there’s nothing like a Holiday on the Cape. \nAlyssa Wang takes the podium for the first time as Cape Symphony’s Music Director at these wonderful performances. \nPatrice Tiedemann\, Soprano\nPatrice Tiedemann’s performance highlights include appearances as a soloist with Boston Lyric Opera as The Water in the East Coast premiere of The Little Prince\, in Hansel & Gretel with the Rhode Island Philharmonic\, as Santuzza in Cavalleria Rusticana with the Pioneer Valley Symphony\, and as Rosalinda in Die Fledermaus with Opera Providence and Cape Cod Opera. \nShe has performed as a Holiday Pops soloist with the Boston Pops\, the Cape Symphony\, and the New Bedford Symphony\, and as the Mother Abbess in The Sound of Music with New Bedford Festival Theatre and Theatre by the Sea\, with the Boston Civic Symphony (Verdi’s Requiem)\, with the University Chorale of Boston College (Dubois’s Seven Last Words of Christ and Beethoven’s 9th Symphony) and nationwide in classical\, sacred\, and theatrical repertoire. \nAs Artistic Director of Seaglass Theater Company\, Ms. Tiedemann produces creatively staged performances of classic vocal repertoire for Southern New England. In 2021\, she served as the dramaturg and sang the role of Eliza Brock for the world premiere of Jodi Goble’s Whaling Women. \nChatham Chorale\nIncorporated in 1977\, the Chatham Chorale is dedicated to performing the world’s rich diversity of choral music and supporting the musical arts and artists on Cape Cod. Joe Marchio became Music Director of the Chorale in 2010. \nAlign Dance Company\nALIGN is a creative dance space in Sandwich\, Massachusetts where students feel comfortable to learn and grow. Through 1:1 coaching\, group training\, and a variety of classes\, Align’s dedicated professionals and educators lead dancers to success in whatever form they pursue\, from strengthening their core values as they grow into confident young humans to finding a place in the professional or pre-professional dance world. \nCape Symphony Youth Orchestra\nThe Cape Symphony Youth Orchestra is the flagship ensemble of the Cape Symphony Youth Orchestra Program. Music Director and Conductor Mark Miller\, Principal Clarinet of the Cape Symphony Orchestra\, has more than 35 years’ experience working with talented youth orchestra musicians.
URL:https://artsfalmouth.org/event/capepops-holiday-on-the-cape-3/
LOCATION:Barnstable Performing Arts Center\, 744 West Main Street\, Hyannis\, 02601
CATEGORIES:Christmas,Classical music,Holiday events,Holiday Festivals,orchestra
ATTACH;FMTTYPE=image/jpeg:https://artsfalmouth.org/wp-content/uploads/2025/11/Holiday-2025_582x419-2.jpg
ORGANIZER;CN="Cape Symphony":MAILTO:info@capesymphony.org
END:VEVENT
BEGIN:VEVENT
DTSTART;TZID=America/New_York:20251206T190000
DTEND;TZID=America/New_York:20251206T190000
DTSTAMP:20260423T222928
CREATED:20251121T052715Z
LAST-MODIFIED:20251121T052715Z
UID:15166-1765047600-1765047600@artsfalmouth.org
SUMMARY:Woods Hole Film Festival: A Cherry Pie Christmas
DESCRIPTION:Woods Hole Film Festival presents its Dinner & A Movie series on Saturday\, December 6\, with the feature documentary VIVA VERDI! by Yvonne Russo. \nThe screening takes place at 7 PM at Redfield Auditorium\, 45 Water Street\, Woods Hole. Doors open at 6:30 PM. Tickets are $18\, $12 for members and $10 student/military. \nVIVA VERDI! feature documentary by Yvonne Russo\, USA\, 77 mins.\, 2025\, English and Italian \nIn 1896\, famed composer Guiseppe Verdi built a unique retirement home\, Casa Verdi\, in Milan\, Italy for musicians to live out their lives in retirement. VIVA VERDI! is an intimate glimpse into the lives of the celebrated opera singers and musicians currently living out their ‘third act’ while mentoring international music students who live among them at Casa Verdi. \nFrom these ‘guests’ of Verdi\, ages 77 to 107\, comprised of international opera singers\, ballet dancers\, musicians\, conductors and composers\, we hear an extraordinary array of personal and professional stories filled with music\, magic and passion\, and ultimately learn why Verdi called this remarkable home his “best work. \nWith “little altars” to Verdi in every corner\, and music and memories in every room\, the cross-generational mixing of young and old\, held together by an implacable commitment and relentless passion for music\, creates a highly charged atmosphere where the human spirit transcends both time and space. As stories of romance\, tragedy and triumph abound from these living treasures\, it’s easy to see Verdi’s vision thriving – a life-affirming reminder of how music moves us at a fundamental level; how nurturing artistic expression can be life- enhancing and nourishing to the spirit at any age; and how one distinctive retirement home has reclaimed and enriched thousands of artists’ lives. \nAward-winning filmmaker Yvonne Russo is the director of VIVA VERDI! She is currently serving as director/producer of RING OF FIRE: The Life of Annie Mae Aquash\, a true-crime docuseries currently in production\, produced by Amy Kaufman and Caroline Waterlow with Jake Gyllenhaal’s\, Nine Stories. Most recently\, she directed\, produced and wrote the PBS animated short\, MINNIE’S WAR BONNET. A producer on KELLY’S BAR\, an independent feature with Casey Affleck’s Sea Change Media\, Russo worked for 15 years on a diverse slate of domestic and international television and film projects for such companies as HBO\, National Geographic Channel\, Discovery/TLC\, and the CBS/Smithsonian Channel. A member of the Academy of Television and Sciences\, she is also a member of the Producers Guild of America where she formerly served on the Board of Governors. A Board Member of NYWIFT\, Russo divides her time between New York and Los Angeles and is a member of the Sicangu Lakota Tribal Nation. \nABOUT DINNER & A MOVIE \nDinner & A Movie is a program of the Winter/Spring Film Series\, twice-monthly in-person screenings of independent film from September 2025 through June 2026. The screenings will be held in the Woods Hole Oceanographic Institution’s Redfield Auditorium\, located at 45 Water Street\, Woods Hole.   \nTickets are on sale in advance at www.woodsholefilmfestival.org and at the door if they are not sold out in advance. \nBefore the screening ticket holders may receive a discount on the meal portion of dinner at the Captain Kidd Restaurant and Bar\, 77 Water Street\, Woods Hole and Quahog Republic Leeside Pub\, 29 Railroad Ave\, Woods Hole. Ticket holders must make reservations directly with the restaurant. \nFor more information email info@woodsholefilmfestival.org or call (508) 495-3456. \n 
URL:https://artsfalmouth.org/event/woods-hole-film-festival-a-cherry-pie-christmas/
LOCATION:Redfield Auditorium\, 45 Water Street\, Woods Hole\, MA\, 02543\, United States
CATEGORIES:Classical music,Documentaries,Film
ATTACH;FMTTYPE=image/jpeg:https://artsfalmouth.org/wp-content/uploads/2025/11/VIVA-VERDI.jpg
ORGANIZER;CN="Woods Hole Film Festival":MAILTO:info@woodsholefilmfestival.org
END:VEVENT
BEGIN:VEVENT
DTSTART;TZID=America/New_York:20251206T193000
DTEND;TZID=America/New_York:20251206T213000
DTSTAMP:20260423T222928
CREATED:20251121T045945Z
LAST-MODIFIED:20251121T045945Z
UID:15132-1765049400-1765056600@artsfalmouth.org
SUMMARY:CapePOPS! Holiday on the Cape
DESCRIPTION:Bring on the sparkle and joy! Your Cape Symphony Orchestra plays all things merry and bright at our beloved Holiday on the Cape concert. We’ll have classic carols\, spirited sleigh bells\, and brilliant performances by Patrice Tiedemann\, the Chatham Chorale\, Align Dance Company\, and\, appearing specially at Saturday’s concerts\, the Cape Symphony Youth Orchestra. Bring family\, bring friends… there’s nothing like a Holiday on the Cape. \nAlyssa Wang takes the podium for the first time as Cape Symphony’s Music Director at these wonderful performances. \nPatrice Tiedemann\, Soprano\nPatrice Tiedemann’s performance highlights include appearances as a soloist with Boston Lyric Opera as The Water in the East Coast premiere of The Little Prince\, in Hansel & Gretel with the Rhode Island Philharmonic\, as Santuzza in Cavalleria Rusticana with the Pioneer Valley Symphony\, and as Rosalinda in Die Fledermaus with Opera Providence and Cape Cod Opera. \nShe has performed as a Holiday Pops soloist with the Boston Pops\, the Cape Symphony\, and the New Bedford Symphony\, and as the Mother Abbess in The Sound of Music with New Bedford Festival Theatre and Theatre by the Sea\, with the Boston Civic Symphony (Verdi’s Requiem)\, with the University Chorale of Boston College (Dubois’s Seven Last Words of Christ and Beethoven’s 9th Symphony) and nationwide in classical\, sacred\, and theatrical repertoire. \nAs Artistic Director of Seaglass Theater Company\, Ms. Tiedemann produces creatively staged performances of classic vocal repertoire for Southern New England. In 2021\, she served as the dramaturg and sang the role of Eliza Brock for the world premiere of Jodi Goble’s Whaling Women. \nChatham Chorale\nIncorporated in 1977\, the Chatham Chorale is dedicated to performing the world’s rich diversity of choral music and supporting the musical arts and artists on Cape Cod. Joe Marchio became Music Director of the Chorale in 2010. \nAlign Dance Company\nALIGN is a creative dance space in Sandwich\, Massachusetts where students feel comfortable to learn and grow. Through 1:1 coaching\, group training\, and a variety of classes\, Align’s dedicated professionals and educators lead dancers to success in whatever form they pursue\, from strengthening their core values as they grow into confident young humans to finding a place in the professional or pre-professional dance world. \nCape Symphony Youth Orchestra\nThe Cape Symphony Youth Orchestra is the flagship ensemble of the Cape Symphony Youth Orchestra Program. Music Director and Conductor Mark Miller\, Principal Clarinet of the Cape Symphony Orchestra\, has more than 35 years’ experience working with talented youth orchestra musicians.
URL:https://artsfalmouth.org/event/capepops-holiday-on-the-cape-4/
LOCATION:Barnstable Performing Arts Center\, 744 West Main Street\, Hyannis\, 02601
CATEGORIES:Christmas,Classical music,Dance,Holiday events,Holiday Festivals,orchestra
ATTACH;FMTTYPE=image/jpeg:https://artsfalmouth.org/wp-content/uploads/2025/11/Holiday-2025_582x419-3.jpg
ORGANIZER;CN="Cape Symphony":MAILTO:info@capesymphony.org
END:VEVENT
BEGIN:VEVENT
DTSTART;TZID=America/New_York:20251207T130000
DTEND;TZID=America/New_York:20251207T150000
DTSTAMP:20260423T222928
CREATED:20251121T050024Z
LAST-MODIFIED:20251121T050024Z
UID:15137-1765112400-1765119600@artsfalmouth.org
SUMMARY:CapePOPS! Holiday on the Cape
DESCRIPTION:Bring on the sparkle and joy! Your Cape Symphony Orchestra plays all things merry and bright at our beloved Holiday on the Cape concert. We’ll have classic carols\, spirited sleigh bells\, and brilliant performances by Patrice Tiedemann\, the Chatham Chorale\, Align Dance Company\, and\, appearing specially at Saturday’s concerts\, the Cape Symphony Youth Orchestra. Bring family\, bring friends… there’s nothing like a Holiday on the Cape. \nAlyssa Wang takes the podium for the first time as Cape Symphony’s Music Director at these wonderful performances. \nPatrice Tiedemann\, Soprano\nPatrice Tiedemann’s performance highlights include appearances as a soloist with Boston Lyric Opera as The Water in the East Coast premiere of The Little Prince\, in Hansel & Gretel with the Rhode Island Philharmonic\, as Santuzza in Cavalleria Rusticana with the Pioneer Valley Symphony\, and as Rosalinda in Die Fledermaus with Opera Providence and Cape Cod Opera. \nShe has performed as a Holiday Pops soloist with the Boston Pops\, the Cape Symphony\, and the New Bedford Symphony\, and as the Mother Abbess in The Sound of Music with New Bedford Festival Theatre and Theatre by the Sea\, with the Boston Civic Symphony (Verdi’s Requiem)\, with the University Chorale of Boston College (Dubois’s Seven Last Words of Christ and Beethoven’s 9th Symphony) and nationwide in classical\, sacred\, and theatrical repertoire. \nAs Artistic Director of Seaglass Theater Company\, Ms. Tiedemann produces creatively staged performances of classic vocal repertoire for Southern New England. In 2021\, she served as the dramaturg and sang the role of Eliza Brock for the world premiere of Jodi Goble’s Whaling Women. \nChatham Chorale\nIncorporated in 1977\, the Chatham Chorale is dedicated to performing the world’s rich diversity of choral music and supporting the musical arts and artists on Cape Cod. Joe Marchio became Music Director of the Chorale in 2010. \nAlign Dance Company\nALIGN is a creative dance space in Sandwich\, Massachusetts where students feel comfortable to learn and grow. Through 1:1 coaching\, group training\, and a variety of classes\, Align’s dedicated professionals and educators lead dancers to success in whatever form they pursue\, from strengthening their core values as they grow into confident young humans to finding a place in the professional or pre-professional dance world. \nCape Symphony Youth Orchestra\nThe Cape Symphony Youth Orchestra is the flagship ensemble of the Cape Symphony Youth Orchestra Program. Music Director and Conductor Mark Miller\, Principal Clarinet of the Cape Symphony Orchestra\, has more than 35 years’ experience working with talented youth orchestra musicians.
URL:https://artsfalmouth.org/event/capepops-holiday-on-the-cape-5/
LOCATION:Barnstable Performing Arts Center\, 744 West Main Street\, Hyannis\, 02601
CATEGORIES:Christmas,Classical music,Holiday events,Holiday Festivals,orchestra
ATTACH;FMTTYPE=image/jpeg:https://artsfalmouth.org/wp-content/uploads/2025/11/Holiday-2025_582x419-4.jpg
ORGANIZER;CN="Cape Symphony":MAILTO:info@capesymphony.org
END:VEVENT
BEGIN:VEVENT
DTSTART;TZID=America/New_York:20251207T170000
DTEND;TZID=America/New_York:20251207T190000
DTSTAMP:20260423T222928
CREATED:20251121T050109Z
LAST-MODIFIED:20251121T050109Z
UID:15142-1765126800-1765134000@artsfalmouth.org
SUMMARY:CapePOPS! Holiday on the Cape
DESCRIPTION:Bring on the sparkle and joy! Your Cape Symphony Orchestra plays all things merry and bright at our beloved Holiday on the Cape concert. We’ll have classic carols\, spirited sleigh bells\, and brilliant performances by Patrice Tiedemann\, the Chatham Chorale\, Align Dance Company\, and\, appearing specially at Saturday’s concerts\, the Cape Symphony Youth Orchestra. Bring family\, bring friends… there’s nothing like a Holiday on the Cape. \nAlyssa Wang takes the podium for the first time as Cape Symphony’s Music Director at these wonderful performances. \nPatrice Tiedemann\, Soprano\nPatrice Tiedemann’s performance highlights include appearances as a soloist with Boston Lyric Opera as The Water in the East Coast premiere of The Little Prince\, in Hansel & Gretel with the Rhode Island Philharmonic\, as Santuzza in Cavalleria Rusticana with the Pioneer Valley Symphony\, and as Rosalinda in Die Fledermaus with Opera Providence and Cape Cod Opera. \nShe has performed as a Holiday Pops soloist with the Boston Pops\, the Cape Symphony\, and the New Bedford Symphony\, and as the Mother Abbess in The Sound of Music with New Bedford Festival Theatre and Theatre by the Sea\, with the Boston Civic Symphony (Verdi’s Requiem)\, with the University Chorale of Boston College (Dubois’s Seven Last Words of Christ and Beethoven’s 9th Symphony) and nationwide in classical\, sacred\, and theatrical repertoire. \nAs Artistic Director of Seaglass Theater Company\, Ms. Tiedemann produces creatively staged performances of classic vocal repertoire for Southern New England. In 2021\, she served as the dramaturg and sang the role of Eliza Brock for the world premiere of Jodi Goble’s Whaling Women. \nChatham Chorale\nIncorporated in 1977\, the Chatham Chorale is dedicated to performing the world’s rich diversity of choral music and supporting the musical arts and artists on Cape Cod. Joe Marchio became Music Director of the Chorale in 2010. \nAlign Dance Company\nALIGN is a creative dance space in Sandwich\, Massachusetts where students feel comfortable to learn and grow. Through 1:1 coaching\, group training\, and a variety of classes\, Align’s dedicated professionals and educators lead dancers to success in whatever form they pursue\, from strengthening their core values as they grow into confident young humans to finding a place in the professional or pre-professional dance world. \nCape Symphony Youth Orchestra\nThe Cape Symphony Youth Orchestra is the flagship ensemble of the Cape Symphony Youth Orchestra Program. Music Director and Conductor Mark Miller\, Principal Clarinet of the Cape Symphony Orchestra\, has more than 35 years’ experience working with talented youth orchestra musicians.
URL:https://artsfalmouth.org/event/capepops-holiday-on-the-cape-6/
LOCATION:Barnstable Performing Arts Center\, 744 West Main Street\, Hyannis\, 02601
CATEGORIES:Christmas,Classical music,Holiday events,Holiday Festivals,orchestra
ATTACH;FMTTYPE=image/jpeg:https://artsfalmouth.org/wp-content/uploads/2025/11/Holiday-2025_582x419-5.jpg
ORGANIZER;CN="Cape Symphony":MAILTO:info@capesymphony.org
END:VEVENT
END:VCALENDAR