BEGIN:VCALENDAR
VERSION:2.0
PRODID:-//ArtsFalmouth, Inc. - ECPv6.15.20//NONSGML v1.0//EN
CALSCALE:GREGORIAN
METHOD:PUBLISH
X-WR-CALNAME:ArtsFalmouth, Inc.
X-ORIGINAL-URL:https://artsfalmouth.org
X-WR-CALDESC:Events for ArtsFalmouth, Inc.
REFRESH-INTERVAL;VALUE=DURATION:PT1H
X-Robots-Tag:noindex
X-PUBLISHED-TTL:PT1H
BEGIN:VTIMEZONE
TZID:America/New_York
BEGIN:DAYLIGHT
TZOFFSETFROM:-0500
TZOFFSETTO:-0400
TZNAME:EDT
DTSTART:20240310T070000
END:DAYLIGHT
BEGIN:STANDARD
TZOFFSETFROM:-0400
TZOFFSETTO:-0500
TZNAME:EST
DTSTART:20241103T060000
END:STANDARD
BEGIN:DAYLIGHT
TZOFFSETFROM:-0500
TZOFFSETTO:-0400
TZNAME:EDT
DTSTART:20250309T070000
END:DAYLIGHT
BEGIN:STANDARD
TZOFFSETFROM:-0400
TZOFFSETTO:-0500
TZNAME:EST
DTSTART:20251102T060000
END:STANDARD
BEGIN:DAYLIGHT
TZOFFSETFROM:-0500
TZOFFSETTO:-0400
TZNAME:EDT
DTSTART:20260308T070000
END:DAYLIGHT
BEGIN:STANDARD
TZOFFSETFROM:-0400
TZOFFSETTO:-0500
TZNAME:EST
DTSTART:20261101T060000
END:STANDARD
END:VTIMEZONE
BEGIN:VEVENT
DTSTART;TZID=America/New_York:20251123T150000
DTEND;TZID=America/New_York:20251123T170000
DTSTAMP:20260424T013139
CREATED:20251013T162431Z
LAST-MODIFIED:20251013T162544Z
UID:14476-1763910000-1763917200@artsfalmouth.org
SUMMARY:Pernambuco Chamber Ensemble Presents “French Impressions”
DESCRIPTION:The Pernambuco Chamber Ensemble returns to West Falmouth Library for a performance on Sunday\, November 23rd at 3pm. Tickets are $30. Registration is  required online. \nThe members of the Ensemble are Shirie Leng\, violin; Jessica Baum\, viola; Judith Glixon\, cello; Daniel Goodman\, piano; Michael Goldring\, double bass & voice. \nThe ensemble writes: “French Impressions is our 2025 Fall concert primarily featuring pieces by French composers. The concert also includes an original composition by our cellist\, Judith Glixon. Many of the pieces are in the shimmering French Impressionist style of Debussy\, Ravel and Faure. \n“We have included two audience favorites from the period – an arrangement of Debussy’s Clair de Lune for viola and piano\, and of Faure’s Pavane for piano trio. Also on the program are an early French trio sonata by Boismortier and a contrasting string trio by Russian composer Sergey Taneyev. The piano at the West Falmouth Library was built in the late 19th century. Early pianos have a different sound than modern ones\, so French Impressionist music performed on the instrument sounds like what the composers would have heard in their day.” \nThe ensemble is named Pernambuco because of their connections to pernambuco wood and their concern for the environment. Pernambuco has been used in the making of bows for over 250 years\, enhancing the performance of stringed music for generations. Today\, pernambuco is increasingly rare and endangered in many areas of its native habitat. By supporting their performances you join the ensemble on their mission to raise awareness and funds for environmental causes.
URL:https://artsfalmouth.org/event/pernambuco-chamber-ensemble-presents-french-impressions/
LOCATION:West Falmouth Library\, 575 West Falmouth Highway\, West Falmouth\, MA\, 02574\, United States
CATEGORIES:Classical music
ATTACH;FMTTYPE=image/png:https://artsfalmouth.org/wp-content/uploads/2025/10/PERNAMBUCO-112325-1-scaled.png
ORGANIZER;CN="West Falmouth Library":MAILTO:wfal_mail@clamsnet.org
END:VEVENT
END:VCALENDAR