BEGIN:VCALENDAR
VERSION:2.0
PRODID:-//ArtsFalmouth, Inc. - ECPv6.15.20//NONSGML v1.0//EN
CALSCALE:GREGORIAN
METHOD:PUBLISH
X-ORIGINAL-URL:https://artsfalmouth.org
X-WR-CALDESC:Events for ArtsFalmouth, Inc.
REFRESH-INTERVAL;VALUE=DURATION:PT1H
X-Robots-Tag:noindex
X-PUBLISHED-TTL:PT1H
BEGIN:VTIMEZONE
TZID:America/New_York
BEGIN:DAYLIGHT
TZOFFSETFROM:-0500
TZOFFSETTO:-0400
TZNAME:EDT
DTSTART:20240310T070000
END:DAYLIGHT
BEGIN:STANDARD
TZOFFSETFROM:-0400
TZOFFSETTO:-0500
TZNAME:EST
DTSTART:20241103T060000
END:STANDARD
BEGIN:DAYLIGHT
TZOFFSETFROM:-0500
TZOFFSETTO:-0400
TZNAME:EDT
DTSTART:20250309T070000
END:DAYLIGHT
BEGIN:STANDARD
TZOFFSETFROM:-0400
TZOFFSETTO:-0500
TZNAME:EST
DTSTART:20251102T060000
END:STANDARD
BEGIN:DAYLIGHT
TZOFFSETFROM:-0500
TZOFFSETTO:-0400
TZNAME:EDT
DTSTART:20260308T070000
END:DAYLIGHT
BEGIN:STANDARD
TZOFFSETFROM:-0400
TZOFFSETTO:-0500
TZNAME:EST
DTSTART:20261101T060000
END:STANDARD
END:VTIMEZONE
BEGIN:VEVENT
DTSTART;TZID=America/New_York:20251115T160000
DTEND;TZID=America/New_York:20251115T180000
DTSTAMP:20260423T175010
CREATED:20251111T020945Z
LAST-MODIFIED:20251111T021143Z
UID:14907-1763222400-1763229600@artsfalmouth.org
SUMMARY:Cape Symphony: A Salute to Service
DESCRIPTION:This concert is a powerful tribute to veterans\, honoring their courage and sacrifice through exceptional music that embodies the patriotic spirit. Our stirring program opens with Dudley Buck’s 1879 Festival Overture on The Star-Spangled Banner followed by Morton Gould’s rousing An American Salute. Marine veteran Mark Paradis of Taps for Veterans will sound Reveille before Maurice Ravel’s elegant Le Tombeau de Couperin\, and Taps before Barber’s deeply moving Adagio for Strings. After an intermission\, Aaron Copland’s grand Symphony No. 3 brings the afternoon to a triumphant\, hopeful resolution. \nExperience a concert filled with reflection\, remembrance\, and reverence for those who have served. \nTicketholders are invited to our “Musically Speaking” talk about the concert program. The talk begins one hour before the concert and will be led by George Scharr\, Cape Symphony Orchestra trombonist from 1989 – 2025. \nMilitary Discount: Enter “Salute20” at checkout and receive 20% off individual ticket prices for patrons who are veterans or currently in military service. Limit of two tickets per concert weekend. Must have valid military ID for ticket pick-up. \nProgram\nFestival Overture on the American National Air\, “The Star-Spangled Banner”\nDUDLEY BUCK \nAn American Salute\nMORTON GOULD \nLe Tombeau de Couperin\nMAURICE RAVEL \nAdagio for Strings\nSAMUEL BARBER \nSymphony No. 3\nAARON COPLAND
URL:https://artsfalmouth.org/event/cape-symphony-a-salute-to-service/
LOCATION:Barnstable Performing Arts Center\, 744 West Main Street\, Hyannis\, 02601
CATEGORIES:Art,Classical music,Concerts
ATTACH;FMTTYPE=image/jpeg:https://artsfalmouth.org/wp-content/uploads/2025/11/Salute-to-Service_582x419_3.jpg
ORGANIZER;CN="Cape Symphony":MAILTO:info@capesymphony.org
END:VEVENT
BEGIN:VEVENT
DTSTART;TZID=America/New_York:20251101T150000
DTEND;TZID=America/New_York:20251102T170000
DTSTAMP:20260423T175010
CREATED:20251028T011304Z
LAST-MODIFIED:20251028T011304Z
UID:14767-1762009200-1762102800@artsfalmouth.org
SUMMARY:Falmouth Chamber Players Orchestra Fall concerts
DESCRIPTION:The Falmouth Chamber Players Orchestra\, under the direction of conductor Thomas Kociela\, will present its Fall Concerts\, titled “Charm\, Elegance\, and Wit\,” on Saturday\, November 1\, at 3 PM\, and Sunday\, November 2\, at 3 PM\, at Morse Pond School Auditorium\, 323 Jones Road\, in Falmouth. \nThe program includes the Overture to L’italiana in Algeri by Rossini\, Mozart’s Violin Concerto No. 3 featuring soloist Gigi Turgeon\, and Haydn’s Symphony No. 101\, “The Clock.” \n“We are pleased to welcome back Thomas Kociela as our conductor for this season\,” said Melanie Hayn\, president of the orchestra. Thomas G. Kociela\, FCPO conductor for the 2025-2026 season\, is also music director of the Rhode Island College Symphony Orchestra and the Parkway Concert Orchestra (Norwood\, MA). \nOf the program\, Kociela says\, “The program title\, ‘Charm\, Elegance and Wit\,’ says it all. Rossini brings the charm\, drawing listeners in with his unmistakable style and spirited energy. Next\, Mozart’s elegant Violin Concerto No. 3 is performed by our concertmaster Gigi Turgeon\, whose artistry brings to life Mozart’s blend of grace\, expressive lyricism\, and precise clarity. And Haydn\, of course\, can’t resist showing off his wit. Through playful craftsmanship\, Haydn continually delights\, setting up expectations and then turning them upside down in the most surprising way. Together\, these works create a concert experience that radiates pure joy!” \nGioachino Rossini (1792-1813) is known for his sparkling\, witty\, and lively overtures\, designed to entertain and cheer an audience\, and his Overture to L’italiana in Algeri (The Italian Girl in Algiers) is one of his best. The opera\, completed in less than a month\, tells the tale of a Turkish Bey in Algiers who is bored by his harem and orders his captain to find him an Italian girl to liven things up. The overture begins with calm and stately pizzicatos from the strings and a gentle oboe solo\, followed by a sudden fortissimo outburst from the whole orchestra\, some delightful woodwind solos\, and several vibrant “Rossini crescendos\,” setting the stage for the zany and implausible tale of love and intrigue\, which follows. \nMozart presented his five violin concertos\, composed between 1773-1775\, during his concertizing tour between 1777-1779. These concertos perfectly promoted his talents as a skillful composer as well as a masterful violinist. Concerto No.3 in G major demonstrates a variety of his best qualities. \nSoloist Guiomar (Gigi) Turgeon describes the concerto: “The first movement is delightfully cheerful and energetic. The second movement is a true Adagio (rarely used by Mozart) which includes the gentle tones of muted strings\, pulsating rhythms\, plucked bassi and delicate flutes to create a beautiful and serene color. The third movement displays Mozart’s quirky humor. Throughout his rustic theme\, he inserts the Austrian “Strassburger” tune which without a doubt displays his sentimental ties to his Salzburg home. \n“Within this single composition\, Mozart satisfies with buoyant energy\, surprising color and whimsical flare making this an audience favorite.” \n“I’m excited to be working with Gigi as our soloist for this concert\,” said Hayn. “Her playing is so delicate and expressive; it’s a real inspiration to the players.” \nA third-generation musician\, Ms. Turgeon began her violin studies at the age of three and worked under many prominent violin masters. She has performed in orchestras led by Leonard Bernstein\, Christopher Hogwood\, Grant Llewellyn\, Seizi Ozawa\, and John Williams. She is also concertmaster for the Dedham Choral Society and performs regularly with many Boston ensembles and founder and director of the Clerici Chamber Music Series. \nJoseph Haydn (1732-1809) was known as the “Father of the Symphony” for his role in defining the classical musical style. He achieved worldwide fame during his lifetime\, writing a total of 104 symphonies. No. 101 is part of a group of twelve “London symphonies\,” so-called because they were commissioned to be performed in that city. Composed during the winter of 1793-1794 in Vienna\, and premiered to in London in March of 1794\, No. 101 is known as the “Clock” symphony because of the “tick-tock” rhythm created by the pizzicato lower strings and staccato bassoons in the second movement. Immensely popular at its premiere\, the symphony is still regarded as one of the world’s greatest symphonies. It shimmers with energy\, intensity\, wit\, and charm. \nA donation at the door of $20 for adults and $5 for young professionals is suggested\, with free admission for students. Tickets are available only at the door. For more information\, visit falmouthchamberplayers.org. \nThe FCPO is funded in part by the Arts Foundation of Cape Cod\, the Falmouth Cultural Council\, the Mass Cultural Council\, the Cape Cod Melody Tent\, and the Woods Hole Foundation.
URL:https://artsfalmouth.org/event/falmouth-chamber-players-orchestra-fall-concerts/
LOCATION:Morse Pond School\, 323 Jones Road\, Falmouth\, MA\, 02540\, United States
CATEGORIES:Classical music,orchestra
ATTACH;FMTTYPE=image/png:https://artsfalmouth.org/wp-content/uploads/2025/10/Poster_2025-Nov.png
ORGANIZER;CN="Falmouth Chamber Players Orchestra":MAILTO:FCPO@falmouthchamberplayers.org
END:VEVENT
END:VCALENDAR