BEGIN:VCALENDAR
VERSION:2.0
PRODID:-//ArtsFalmouth, Inc. - ECPv6.15.20//NONSGML v1.0//EN
CALSCALE:GREGORIAN
METHOD:PUBLISH
X-WR-CALNAME:ArtsFalmouth, Inc.
X-ORIGINAL-URL:https://artsfalmouth.org
X-WR-CALDESC:Events for ArtsFalmouth, Inc.
REFRESH-INTERVAL;VALUE=DURATION:PT1H
X-Robots-Tag:noindex
X-PUBLISHED-TTL:PT1H
BEGIN:VTIMEZONE
TZID:America/New_York
BEGIN:DAYLIGHT
TZOFFSETFROM:-0500
TZOFFSETTO:-0400
TZNAME:EDT
DTSTART:20240310T070000
END:DAYLIGHT
BEGIN:STANDARD
TZOFFSETFROM:-0400
TZOFFSETTO:-0500
TZNAME:EST
DTSTART:20241103T060000
END:STANDARD
BEGIN:DAYLIGHT
TZOFFSETFROM:-0500
TZOFFSETTO:-0400
TZNAME:EDT
DTSTART:20250309T070000
END:DAYLIGHT
BEGIN:STANDARD
TZOFFSETFROM:-0400
TZOFFSETTO:-0500
TZNAME:EST
DTSTART:20251102T060000
END:STANDARD
BEGIN:DAYLIGHT
TZOFFSETFROM:-0500
TZOFFSETTO:-0400
TZNAME:EDT
DTSTART:20260308T070000
END:DAYLIGHT
BEGIN:STANDARD
TZOFFSETFROM:-0400
TZOFFSETTO:-0500
TZNAME:EST
DTSTART:20261101T060000
END:STANDARD
END:VTIMEZONE
BEGIN:VEVENT
DTSTART;TZID=America/New_York:20251115T190000
DTEND;TZID=America/New_York:20251115T210000
DTSTAMP:20260424T015140
CREATED:20251029T143623Z
LAST-MODIFIED:20251029T143910Z
UID:14791-1763233200-1763240400@artsfalmouth.org
SUMMARY:Woods Hole Film Festival Dinner and a Movie
DESCRIPTION:The Woods Hole Film Festival Dinner & A Movie series continues Saturday\, Nov. 15\, 2025\, with the feature documentary FOLKTALES by Heidi Ewing and Rachel Grady\, US\, Norway\, 106 mins.\, English and Norwegian. \nIn Norse mythology\, the three “Norns” are powerful deities who weave the threads of fate and shape humans’ futures. Today\, Pasvik Folk High School in northern Norway aims to produce a similar life-changing effect on its students. FOLKTALES tells the timely and emotional story of teenagers who choose to spend an unconventional “gap year” learning to dog sled and survive the Arctic wilderness\, in hopes of finding connection and meaning in the modern world. \nExhausted by loneliness\, social anxiety\, and all the crushing pressures felt by Gen Z\, three teenagers make the daring decision to leave the comforts of home to enroll in a traditional “folk high school” in the wilds of northern Norway. Dropped in the arctic wilderness for one year\, Hege\, Romain\, and Bjørn Tore must rely on themselves and a pack of loyal sled dogs as they take the daunting step from childhood to adulthood. Freed of technology\, social media\, and the noise of modern life\, this brave trio learn to face themselves for the first time – and experience an unexpected\, wondrous transformation. Guided by patient teachers and a yard full of Alaskan huskies\, they discover their own potential and develop deep relationships with the land\, animals and humans around them. \nFor nearly two centuries\, Scandinavian folk high schools – some of which are rooted in the lessons of Norse mythology – have emphasized the power of nature\, simplicity\, and community to transform young lives. “We hope we can wake up your Stone Age brain\,” Pasvik instructor Iselin tells her students. Through intimate verité storytelling and exhilarating cinematography\, Academy Award®-nominated filmmakers Heidi Ewing and Rachel Grady examine humans on the cusp of adulthood\, finding themselves at the edge of the world. \nABOUT THE FILMMAKERS \nHeidi Ewing and Rachel Grady\, WHFF alumni\, are the co-directors of Jesus Camp (Academy Award nominee)\, The Boys of Baraka (Emmy nominee)\, 12th & Delaware (Peabody Award winner)\, DETROPIA (Emmy winner)\, Norman Lear: Just Another Version of You\, One of Us\, Love Fraud\, and Endangered. They are the co-owners of Brooklyn-based production company Loki Films. \nABOUT DINNER & A MOVIE \nDinner & A Movie is a program of the Winter/Spring Film Series\, twice-monthly in-person screenings of independent film from September 2025 through June 2026. The screenings will be held in the Woods Hole Oceanographic Institution’s Redfield Auditorium\, located at 45 Water Street\, Woods Hole.   \nThe film begins at 7 pm. Doors open at 6:30 pm. Tickets are $18\, $12 for members and $10 student/military. Tickets are on sale in advance at www.woodsholefilmfestival.org and at the door if they are not sold out in advance. \nBefore the screening ticket holders may receive a discount on the meal portion of dinner at the Captain Kidd Restaurant and Bar\, 77 Water Street\, Woods Hole and Quahog Republic Leeside Pub\, 29 Railroad Ave\, Woods Hole. Ticket holders must make reservations directly with the restaurant. \nUPCOMING SCREENINGS: \nFRIDAY\, DECEMBER 5\, 2025: A CHERRY PIE CHRISTMAS\, a new holiday film by John Stimpson. Tickets\, $20\, $12 for members and $10 for students and military. \nSATURDAY\, DECEMBER 6\, 2025: VIVA VERDI\, feature documentary by Yvonne Russo and Christine La Monte. \nThe Festival is supported in part by grants from the Woods Hole Foundation\, the Falmouth Fund of the Cape Cod Foundation\, the Cape Cod Foundation\, the Martha’s Vineyard Bank Charitable Foundation and Cape Cod 5. The Festival is sponsored by Liam Maguire’s Irish Pub. \nFor more information email info@woodsholefilmfestival.org or call (508) 495-3456.
URL:https://artsfalmouth.org/event/woods-hole-film-festival-dinner-and-a-movie/
LOCATION:Redfield Auditorium\, 45 Water Street\, Woods Hole\, MA\, 02543\, United States
CATEGORIES:Film
ATTACH;FMTTYPE=image/jpeg:https://artsfalmouth.org/wp-content/uploads/2025/10/FOLKTALES_Fprogram-1.jpg
ORGANIZER;CN="Woods Hole Film Festival":MAILTO:info@woodsholefilmfestival.org
END:VEVENT
END:VCALENDAR