BEGIN:VCALENDAR
VERSION:2.0
PRODID:-//ArtsFalmouth, Inc. - ECPv6.15.20//NONSGML v1.0//EN
CALSCALE:GREGORIAN
METHOD:PUBLISH
X-ORIGINAL-URL:https://artsfalmouth.org
X-WR-CALDESC:Events for ArtsFalmouth, Inc.
REFRESH-INTERVAL;VALUE=DURATION:PT1H
X-Robots-Tag:noindex
X-PUBLISHED-TTL:PT1H
BEGIN:VTIMEZONE
TZID:America/New_York
BEGIN:DAYLIGHT
TZOFFSETFROM:-0500
TZOFFSETTO:-0400
TZNAME:EDT
DTSTART:20240310T070000
END:DAYLIGHT
BEGIN:STANDARD
TZOFFSETFROM:-0400
TZOFFSETTO:-0500
TZNAME:EST
DTSTART:20241103T060000
END:STANDARD
BEGIN:DAYLIGHT
TZOFFSETFROM:-0500
TZOFFSETTO:-0400
TZNAME:EDT
DTSTART:20250309T070000
END:DAYLIGHT
BEGIN:STANDARD
TZOFFSETFROM:-0400
TZOFFSETTO:-0500
TZNAME:EST
DTSTART:20251102T060000
END:STANDARD
BEGIN:DAYLIGHT
TZOFFSETFROM:-0500
TZOFFSETTO:-0400
TZNAME:EDT
DTSTART:20260308T070000
END:DAYLIGHT
BEGIN:STANDARD
TZOFFSETFROM:-0400
TZOFFSETTO:-0500
TZNAME:EST
DTSTART:20261101T060000
END:STANDARD
END:VTIMEZONE
BEGIN:VEVENT
DTSTART;TZID=America/New_York:20251105T183000
DTEND;TZID=America/New_York:20251105T213000
DTSTAMP:20260424T013256
CREATED:20251028T005305Z
LAST-MODIFIED:20251029T200210Z
UID:14758-1762367400-1762378200@artsfalmouth.org
SUMMARY:Jazz Celebration Fundraiser
DESCRIPTION:ArtsFalmouth will hold a Jazz Celebration Fundraiser on Wednesday\, November 5\, from 6:30 to 9:30 PM at the Daily Brew Coffee House & Lounge\, 412 North Falmouth Highway in North Falmouth. Doors open at 6 PM. \n“We are very pleased to be able to showcase a number of outstanding local and regional jazz players\,” said Pat Ryan of Full Spectrum Music\, who has worked with ArtsFalmouth to organize the event. “It will be a treat for everyone\, from jazz lovers to those who would enjoy an introduction to some of the many accomplished improvising musicians the Cape has to offer.” \nPerformers will include vocalists Andrea Capozzoli\, Olivia Yingling\, and Tish Adams\, brass and reed players Dennis Cook\, Mark Greel\, and Joe Mongelli\, and rhythm section players Andy Troyanos\, Fred Fried\, Laird Boles\, and Matthew Hutchinson. \nThey will be supported by a versatile house band of Chris Taylor on keys\, Zac Casher on drums\, Eric T. Johnson on bass\, and Pat Ryan on guitar.  \n“There are sure to be some surprise unannounced musical guests as well\,” said Ryan. ArtsFalmouth president Marilyn Rowland noted\, “Many of them have performed in various ensembles at ArtsFalmouth’s Jazz Stroll and other local events\, but this will be an exciting opportunity to see and hear them all in one room.” \nRyan\, who has performed with various jazz artists at the Daily Brew Coffee House & Lounge on Sundays this past summer\, said\, “The Brew is an exciting new music venue that has been attracting a lot of attention. The acoustics\, aesthetics\, and overall vibe are just incredible. This will be a fun evening of great music\, fellowship\, and\, of course\, good food and drink.” \nTickets are $25 per person in advance and are available on the Daily Brew website. \nThe purpose of the fundraiser is to support and supplement ArtsFalmouth’s ongoing jazz programming. This year\, for the first time since the Jazz Stroll was initiated in 2011\, ArtsFalmouth did not have sufficient funds available to support the Stroll\, and the event\, which featured up to a dozen jazz performances in shops\, restaurants\, and public spaces\, all free and open to the public\, had to be canceled. \n“We’re working hard to continue to find funding sources to enable us to continue all of our events: the Woods Hole Trad Stroll in May\, Arts Alive in June\, and the Jazz Stroll in October and also to expand our jazz programming\,” said Rowland. “We are calling on all those who value the role of the arts in contributing to the cultural vitality and creative economy of Falmouth and the Upper Cape to help us continue and expand our free and affordable events for all members of our community.” \nFor those who want to help but are unable to attend the fundraiser or who want to donate more\, visit the ArtsFalmouth.org and click on Jazz Celebration Fundraiser or Donate. \nFor more information\, email artsfalmouthinc@gmail.com.
URL:https://artsfalmouth.org/event/jazz-celebration-fundraiser/
LOCATION:Daily Brew Coffee House and Lounge\, 412 North Falmouth Highway\, North Falmouth\, MA\, 02556\, United States
CATEGORIES:Jazz
ATTACH;FMTTYPE=image/jpeg:https://artsfalmouth.org/wp-content/uploads/2025/10/Jazz-Celebration-Fundraiser-collage.jpg
END:VEVENT
END:VCALENDAR