BEGIN:VCALENDAR
VERSION:2.0
PRODID:-//ArtsFalmouth, Inc. - ECPv6.15.20//NONSGML v1.0//EN
CALSCALE:GREGORIAN
METHOD:PUBLISH
X-WR-CALNAME:ArtsFalmouth, Inc.
X-ORIGINAL-URL:https://artsfalmouth.org
X-WR-CALDESC:Events for ArtsFalmouth, Inc.
REFRESH-INTERVAL;VALUE=DURATION:PT1H
X-Robots-Tag:noindex
X-PUBLISHED-TTL:PT1H
BEGIN:VTIMEZONE
TZID:America/New_York
BEGIN:DAYLIGHT
TZOFFSETFROM:-0500
TZOFFSETTO:-0400
TZNAME:EDT
DTSTART:20240310T070000
END:DAYLIGHT
BEGIN:STANDARD
TZOFFSETFROM:-0400
TZOFFSETTO:-0500
TZNAME:EST
DTSTART:20241103T060000
END:STANDARD
BEGIN:DAYLIGHT
TZOFFSETFROM:-0500
TZOFFSETTO:-0400
TZNAME:EDT
DTSTART:20250309T070000
END:DAYLIGHT
BEGIN:STANDARD
TZOFFSETFROM:-0400
TZOFFSETTO:-0500
TZNAME:EST
DTSTART:20251102T060000
END:STANDARD
BEGIN:DAYLIGHT
TZOFFSETFROM:-0500
TZOFFSETTO:-0400
TZNAME:EDT
DTSTART:20260308T070000
END:DAYLIGHT
BEGIN:STANDARD
TZOFFSETFROM:-0400
TZOFFSETTO:-0500
TZNAME:EST
DTSTART:20261101T060000
END:STANDARD
BEGIN:DAYLIGHT
TZOFFSETFROM:-0500
TZOFFSETTO:-0400
TZNAME:EDT
DTSTART:20270314T070000
END:DAYLIGHT
BEGIN:STANDARD
TZOFFSETFROM:-0400
TZOFFSETTO:-0500
TZNAME:EST
DTSTART:20271107T060000
END:STANDARD
END:VTIMEZONE
BEGIN:VEVENT
DTSTART;TZID=America/New_York:20260321T190000
DTEND;TZID=America/New_York:20260321T190000
DTSTAMP:20260423T162336
CREATED:20260219T011033Z
LAST-MODIFIED:20260219T011033Z
UID:16197-1774119600-1774119600@artsfalmouth.org
SUMMARY:Chant\, Drum\, & Dance
DESCRIPTION:Songwriter\, song leader\, and music teacher Dawna Hammers presents Chant\, Drum\, & Dance on Saturday\, March 21\, at Woods Hole Community Hall. All ages are welcome. Admission is $10\, $20 for couples or families. \nThe event celebrates the Spring Equinox. Dawna will leach simple healing chants and rhythms from various traditions\, as well as her own original chants for the Earth\, Air\, Water\, and Fire. There will be dancing to Dawna’s playlist. \nAdditional events are planned for April 10\, May 23\, and June 10\, \n  \n 
URL:https://artsfalmouth.org/event/chant-drum-dance/
LOCATION:Woods Hole Community Hall\, 68 Water Street\, Woods Hole\, MA\, 02543\, United States
CATEGORIES:Chanting,Dance,Singing
ATTACH;FMTTYPE=image/jpeg:https://artsfalmouth.org/wp-content/uploads/2024/09/Dawna-Hammers-2024-scaled.jpg
ORGANIZER;CN="Dawna Hammers":MAILTO:dawnahammers23@gmail.com
END:VEVENT
BEGIN:VEVENT
DTSTART;TZID=America/New_York:20251220T160000
DTEND;TZID=America/New_York:20251220T180000
DTSTAMP:20260423T162336
CREATED:20251121T050143Z
LAST-MODIFIED:20251121T050143Z
UID:15147-1766246400-1766253600@artsfalmouth.org
SUMMARY:Solstice Singers "A Solstice Hallelujah"
DESCRIPTION:Solstice Singers presents “A Solstice Hallelujah\,” a pageant of songs\, instrumental music\, drama and dance celebrating the 250th anniversary of the founding of the United States of America. \nPerformed in colorful period costumes\, the program includes pieces that could have been sung or heard at the time of our nation’s founding\, both in America and in Europe. The musical selections include contemplative as well as festive pieces for the celebrations surrounding the longest night of the year. \nSolstice Singers will be joined by Ensemble Passacaglia\, performing on an array of period instruments\, as well as the children’s chorus Les Enfants du Soleil. An original mummers play rounds out the program\, in which life is struck down by forces of evil (winter)\, only to spring to life again at the hands of a magical healer (spring). \nThe two performances take place at the Community Hall in Woods Hole at 68 Water Street on Saturday and Sunday\, December 20 and 21\, both at 4:00 p.m. Tickets are $25\, $10 students\, free under age 5\, and are available at solsticesingers.org.
URL:https://artsfalmouth.org/event/solstice-singers-a-solstice-hallelujah/
LOCATION:Woods Hole Community Hall\, 68 Water Street\, Woods Hole\, MA\, 02543\, United States
CATEGORIES:Live concerts,Singing,Traditional music
ATTACH;FMTTYPE=image/jpeg:https://artsfalmouth.org/wp-content/uploads/2025/11/20241222_1936.jpg
ORGANIZER;CN="Solstice Singers":MAILTO:info@solsticesingers.org
END:VEVENT
END:VCALENDAR