BEGIN:VCALENDAR
VERSION:2.0
PRODID:-//ArtsFalmouth, Inc. - ECPv6.15.20//NONSGML v1.0//EN
CALSCALE:GREGORIAN
METHOD:PUBLISH
X-ORIGINAL-URL:https://artsfalmouth.org
X-WR-CALDESC:Events for ArtsFalmouth, Inc.
REFRESH-INTERVAL;VALUE=DURATION:PT1H
X-Robots-Tag:noindex
X-PUBLISHED-TTL:PT1H
BEGIN:VTIMEZONE
TZID:America/New_York
BEGIN:DAYLIGHT
TZOFFSETFROM:-0500
TZOFFSETTO:-0400
TZNAME:EDT
DTSTART:20250309T070000
END:DAYLIGHT
BEGIN:STANDARD
TZOFFSETFROM:-0400
TZOFFSETTO:-0500
TZNAME:EST
DTSTART:20251102T060000
END:STANDARD
BEGIN:DAYLIGHT
TZOFFSETFROM:-0500
TZOFFSETTO:-0400
TZNAME:EDT
DTSTART:20260308T070000
END:DAYLIGHT
BEGIN:STANDARD
TZOFFSETFROM:-0400
TZOFFSETTO:-0500
TZNAME:EST
DTSTART:20261101T060000
END:STANDARD
BEGIN:DAYLIGHT
TZOFFSETFROM:-0500
TZOFFSETTO:-0400
TZNAME:EDT
DTSTART:20270314T070000
END:DAYLIGHT
BEGIN:STANDARD
TZOFFSETFROM:-0400
TZOFFSETTO:-0500
TZNAME:EST
DTSTART:20271107T060000
END:STANDARD
END:VTIMEZONE
BEGIN:VEVENT
DTSTART;TZID=America/New_York:20260415T180000
DTEND;TZID=America/New_York:20260415T200000
DTSTAMP:20260423T173834
CREATED:20260301T172235Z
LAST-MODIFIED:20260301T172235Z
UID:16332-1776276000-1776283200@artsfalmouth.org
SUMMARY:Spring Wine Tasting: Wines of Northern Spain
DESCRIPTION:Sommelier Steve Bodell returns to the library for a Spring wine tasting\, this time of Northern Spain\, Wednesday\, April 15 at 6 p.m. Tickets are $45 each; $70 for a pair. \nNorthern Spain has a rich and storied tradition of wine dating back over 2000 years. It is wonderfully varied with dozens of Wine Regions and hundreds of Sub-regions. The interplay of climate\, soils\, history and culture make for some of the world’s most interesting wines. \nPlease join us as we explore some of the wines – sparkling\, white and red from the North of Spain.
URL:https://artsfalmouth.org/event/spring-wine-tasting-wines-of-northern-spain/
LOCATION:West Falmouth Library\, 575 West Falmouth Highway\, West Falmouth\, MA\, 02574\, United States
CATEGORIES:Wine tasting
ATTACH;FMTTYPE=image/png:https://artsfalmouth.org/wp-content/uploads/2026/02/Spring-Wine-Tasting-1.png
ORGANIZER;CN="West Falmouth Library":MAILTO:wfal_mail@clamsnet.org
END:VEVENT
END:VCALENDAR