BEGIN:VCALENDAR
VERSION:2.0
PRODID:-//ArtsFalmouth, Inc. - ECPv6.15.20//NONSGML v1.0//EN
CALSCALE:GREGORIAN
METHOD:PUBLISH
X-WR-CALNAME:ArtsFalmouth, Inc.
X-ORIGINAL-URL:https://artsfalmouth.org
X-WR-CALDESC:Events for ArtsFalmouth, Inc.
REFRESH-INTERVAL;VALUE=DURATION:PT1H
X-Robots-Tag:noindex
X-PUBLISHED-TTL:PT1H
BEGIN:VTIMEZONE
TZID:America/New_York
BEGIN:DAYLIGHT
TZOFFSETFROM:-0500
TZOFFSETTO:-0400
TZNAME:EDT
DTSTART:20240310T070000
END:DAYLIGHT
BEGIN:STANDARD
TZOFFSETFROM:-0400
TZOFFSETTO:-0500
TZNAME:EST
DTSTART:20241103T060000
END:STANDARD
BEGIN:DAYLIGHT
TZOFFSETFROM:-0500
TZOFFSETTO:-0400
TZNAME:EDT
DTSTART:20250309T070000
END:DAYLIGHT
BEGIN:STANDARD
TZOFFSETFROM:-0400
TZOFFSETTO:-0500
TZNAME:EST
DTSTART:20251102T060000
END:STANDARD
BEGIN:DAYLIGHT
TZOFFSETFROM:-0500
TZOFFSETTO:-0400
TZNAME:EDT
DTSTART:20260308T070000
END:DAYLIGHT
BEGIN:STANDARD
TZOFFSETFROM:-0400
TZOFFSETTO:-0500
TZNAME:EST
DTSTART:20261101T060000
END:STANDARD
END:VTIMEZONE
BEGIN:VEVENT
DTSTART;TZID=America/New_York:20251029T180000
DTEND;TZID=America/New_York:20251029T200000
DTSTAMP:20260425T092651
CREATED:20250930T033136Z
LAST-MODIFIED:20250930T033136Z
UID:14280-1761760800-1761768000@artsfalmouth.org
SUMMARY:Fall Wine Tasting: Wines of the Southern Rhone
DESCRIPTION:West Falmouth Library is pleased to once again host sommelier Steve Bodell\, bringing you “Wines of the Southern Rhone” to a tasting on Wednesday\, October 29th at 6pm. Tickets are $45 for one person; $70 for two people. Registration is required; register online. \nFrance’s southern Rhone Valley is home to a wide range of wines. There are over a dozen appellations from Côtes du Rhône to Châteauneuf-du-Pape. The terroir is very diverse and there are over a dozen grape varieties that can be used in blending wine. Please join us as we explore this fascinating and delicious wine region.
URL:https://artsfalmouth.org/event/fall-wine-tasting-wines-of-the-southern-rhone/
LOCATION:West Falmouth Library\, 575 West Falmouth Highway\, West Falmouth\, MA\, 02574\, United States
CATEGORIES:Wine tasting
ATTACH;FMTTYPE=image/png:https://artsfalmouth.org/wp-content/uploads/2025/09/Wine-Tasting-corrected-pricing.png
ORGANIZER;CN="West Falmouth Library":MAILTO:wfal_mail@clamsnet.org
END:VEVENT
BEGIN:VEVENT
DTSTART;TZID=America/New_York:20251027T180000
DTEND;TZID=America/New_York:20251027T200000
DTSTAMP:20260425T092651
CREATED:20250930T032804Z
LAST-MODIFIED:20250930T032804Z
UID:14295-1761588000-1761595200@artsfalmouth.org
SUMMARY:Social Dancing with Glen Carliss
DESCRIPTION:Join Glen Carliss with your partner on a 6-week journey to learn social dancing for two. These lessons are easy going and a unique opportunity to have FUN learning to dance with a partner. Glen will proceed slowly and will not leave anyone behind. \nPlease dress to impress in your favorite formal wear for our last lesson on December 1st where we will debut and celebrate your new found skills and confidence with a champagne toast\, refreshments and a live band! \nRegistration Required\, space is limited. $300 per couple for the 6 week session\, Mondays 6-8pm October 27th-December 1st. Register online. \nPlease dress in comfortable casual loose-fitting clothes. Hard soled shoes are best. Sneakers and sandals don’t work as well. Please bring along water to stay hydrated throughout class.
URL:https://artsfalmouth.org/event/social-dancing-with-glen-carliss/
LOCATION:West Falmouth Library\, 575 West Falmouth Highway\, West Falmouth\, MA\, 02574\, United States
CATEGORIES:Dance instruction
ATTACH;FMTTYPE=image/png:https://artsfalmouth.org/wp-content/uploads/2025/09/Social-Dancing-Draft-1.png
ORGANIZER;CN="West Falmouth Library":MAILTO:wfal_mail@clamsnet.org
END:VEVENT
BEGIN:VEVENT
DTSTART;TZID=America/New_York:20251025T150000
DTEND;TZID=America/New_York:20251025T183000
DTSTAMP:20260425T092651
CREATED:20251011T193210Z
LAST-MODIFIED:20251011T193210Z
UID:14517-1761404400-1761417000@artsfalmouth.org
SUMMARY:Falmouth Public Library Spooky Halloween Bash!
DESCRIPTION:Following the Falmouth Village Association’s Halloween Stroll on Falmouth Main Street (1-3 PM on 10/25/2025)\, the Falmouth Public Library Main Branch will be hosting a Spooky Party from 3 PM – 6:30 PM. I know I never want the spooky season days to end\, so finish your Halloween Stroll at the Main Branch of Falmouth Public Library (300 Main Street\, Falmouth)! \nEverything is free and there is no registration required\, just come in to Falmouth Public Library Main Branch and strap in for some spooky fun! The Spooky Party is for all ages. We will have pumpkin carving\, games\, crafts and friendly competitions like who can eat the whole donut hanging off a string! There will also be plenty of snacks and apple cider. The party will be held on the first floor of the library. These activities will be running and rocking for the duration of the party! \nTHEN at 4 PM during the spooky party\, a “Tour of Halloween around the World” will be held in the Hermann Meeting room. The Hermann room will turn into a maze guided tour where you will learn about how different cultures celebrate spooky season. There may be a few ghosts that find their way into the maze\, so get ready for some ghost hunting along the way. The fun doesn’t stop there! At the end of the tour\, folks will emerge into a fire lit room where professional voice actors\, in full costume\, will be reading aloud numerous spooky stories for all to enjoy. The tour will swing back around to the Spooky Party for more fun with family and friends! There will also be a special spooky movie playing in the Bay Room (right next to the Hermann meeting room) for all to enjoy throughout the party! \n10/1/2025 – 10/31/2025: A Scooby Doo Villain Scavenger Hunt throughout the library. Come to the main branch during open hours and see if you can catch all the villains! If you can\, you will be awarded an official Mystery Inc. Detective badge! \n**10/25/2025 at 11AM in the FPL Main Branch Young Adult Room Cara Bean will be running a Spooky Doodling Workshop for Tweens and Teens.\n**10/25/2025 at 2:00 PM in the FPL Main Branch Young Adult Room Cara Bean will be running a Spooky Doodling Workshop for Adults. \n**Cara Bean’s Doodling events require registration. Please use our online calendar to register\, email Clint at cjohnson@falmouthpubliclibrary.org\, or give us a call at 508-457-2555. \nCara will also be signing her latest book “here i am\, i am me” in between and after her events at the Falmouth Public Library Main Branch.
URL:https://artsfalmouth.org/event/falmouth-public-library-spooky-halloween-bash/
LOCATION:Falmouth Public Library\, 300 Main Street\, Falmouth\, MA\, 02540\, United States
CATEGORIES:Art,Book sales,Culture,Holiday events,Literacy,Spoken word,Theater,Travel talks
ATTACH;FMTTYPE=image/jpeg:https://artsfalmouth.org/wp-content/uploads/2025/10/Spooky-Time-10_25-Final.jpg
ORGANIZER;CN="Falmouth Public Library":MAILTO:info@falmouthpubliclibrary
END:VEVENT
END:VCALENDAR