BEGIN:VCALENDAR
VERSION:2.0
PRODID:-//ArtsFalmouth, Inc. - ECPv6.15.20//NONSGML v1.0//EN
CALSCALE:GREGORIAN
METHOD:PUBLISH
X-WR-CALNAME:ArtsFalmouth, Inc.
X-ORIGINAL-URL:https://artsfalmouth.org
X-WR-CALDESC:Events for ArtsFalmouth, Inc.
REFRESH-INTERVAL;VALUE=DURATION:PT1H
X-Robots-Tag:noindex
X-PUBLISHED-TTL:PT1H
BEGIN:VTIMEZONE
TZID:America/New_York
BEGIN:DAYLIGHT
TZOFFSETFROM:-0500
TZOFFSETTO:-0400
TZNAME:EDT
DTSTART:20250309T070000
END:DAYLIGHT
BEGIN:STANDARD
TZOFFSETFROM:-0400
TZOFFSETTO:-0500
TZNAME:EST
DTSTART:20251102T060000
END:STANDARD
BEGIN:DAYLIGHT
TZOFFSETFROM:-0500
TZOFFSETTO:-0400
TZNAME:EDT
DTSTART:20260308T070000
END:DAYLIGHT
BEGIN:STANDARD
TZOFFSETFROM:-0400
TZOFFSETTO:-0500
TZNAME:EST
DTSTART:20261101T060000
END:STANDARD
BEGIN:DAYLIGHT
TZOFFSETFROM:-0500
TZOFFSETTO:-0400
TZNAME:EDT
DTSTART:20270314T070000
END:DAYLIGHT
BEGIN:STANDARD
TZOFFSETFROM:-0400
TZOFFSETTO:-0500
TZNAME:EST
DTSTART:20271107T060000
END:STANDARD
END:VTIMEZONE
BEGIN:VEVENT
DTSTART;TZID=America/New_York:20260505T120000
DTEND;TZID=America/New_York:20260505T150000
DTSTAMP:20260423T175016
CREATED:20260414T180402Z
LAST-MODIFIED:20260414T180458Z
UID:46914-1777982400-1777993200@artsfalmouth.org
SUMMARY:Magic the Gathering Deck Building Open House
DESCRIPTION:On Tuesday\, May 5\, from noon to 3 PM\, during Falmouth Public Schools’ early release day\, the Falmouth Public Library Main Branch\, Young Adult room\, will be hosting a Magic the Gathering  open deck building workshop. \nCome in anytime and start building your own deck. Clint and other players of different levels will be there to help. Once you have your deck ready to go….It’s time to challenge your friends. \nNo registration required! The recommended age is 12+. We have a good amount of cards to work with but feel free to bring your own. First come\, first served. If you have any questions or suggestions please reach out to us at cjohnson@falmouthpubliclibrary.org or call us at 508-457-2555. \n“Magic the Gathering has been a beloved card game since 1993. From when I was a young kid to today\, I’ve been in gaming shops\, entered competitions\, and spent hours upon hours formulating decks that build off each other with mind blowing combos. There are so many different types of cards to use at different times and each card must be chosen wisely as it formulates an offense and defensive that protect your very own life points!” \nThere are creatures\, spells\, artifacts and many other different types of cards. Creatures have special abilities buffed up with attack and damage numbers. Spells can throw a deck into a tizzy. And if you don’t have enough magical energy (“land” or “mana” cards) to play\, you’re a helpless spell caster\, open to destruction! Magic the Gathering has always been created and maintained by Wizards of the Coast. They have released series after series of new cards to be used with new abilities and rules. Combining these cards into a deck shows the player’s true skill. Yes\, premade decks are released and fun to learn and play with but once you’re ready to get serious…it’s time to get down with your own imagination. You like vampires? Make a vampire deck. You like goblins? Make a goblin deck. Each class of creatures has its own advantages and disadvantages. \n 
URL:https://artsfalmouth.org/event/magic-the-gathering-deck-building-open-house/
LOCATION:Falmouth Public Library\, 300 Main Street\, Falmouth\, MA\, 02540\, United States
CATEGORIES:Open House
ATTACH;FMTTYPE=image/jpeg:https://artsfalmouth.org/wp-content/uploads/2026/04/Magic-Cards.jpg
ORGANIZER;CN="Falmouth Public Library":MAILTO:info@falmouthpubliclibrary
END:VEVENT
BEGIN:VEVENT
DTSTART;TZID=America/New_York:20260927T100000
DTEND;TZID=America/New_York:20260928T140000
DTSTAMP:20260423T175016
CREATED:20260213T185419Z
LAST-MODIFIED:20260213T185419Z
UID:16127-1790503200-1790604000@artsfalmouth.org
SUMMARY:2026 Cape Cod Optimism Walk for Parkinson's
DESCRIPTION:The Annual APDA Cape Cod Optimism Walk is more than just a walk—it’s a powerful celebration of hope\, community\, and progress in the fight against Parkinson’s disease. \nJoin us in 2026 as we step forward together for everyone affected by Parkinson’s. This inspiring event unites our community to raise critical funds that drive real change: supporting groundbreaking research toward a cure\, expanding vital local programs and services\, and empowering people with Parkinson’s to live life to the fullest. \nEvent Details:\nDate: Sunday\, September 27\, 2026\nLocation: Falmouth High School Track\nTime: Check-in: 10:00 AM\nOpening Ceremony: 11:00 AM \nWalk Length: Walk as much or as little as you choose—everyone is welcome! \nFundraise to earn fantastic incentive prizes while enjoying live music from our DJ\, a complimentary lunch for all participants\, and the chance to connect with Community Partner tables featuring valuable resources and information.
URL:https://artsfalmouth.org/event/2026-cape-cod-optimism-walk-for-parkinsons/
LOCATION:Falmouth High School\, 874 Gifford Street\, Falmouth\, 02540
CATEGORIES:Fundraisers
ATTACH;FMTTYPE=image/jpeg:https://artsfalmouth.org/wp-content/uploads/2026/02/2026-APDA-Cape-Cod-Walk-Flyer-.jpg
ORGANIZER;CN="American Parkinson Disease Assocation":MAILTO:ldonahue@apdaparkinson.org
END:VEVENT
END:VCALENDAR