BEGIN:VCALENDAR
VERSION:2.0
PRODID:-//ArtsFalmouth, Inc. - ECPv6.15.20//NONSGML v1.0//EN
CALSCALE:GREGORIAN
METHOD:PUBLISH
X-ORIGINAL-URL:https://artsfalmouth.org
X-WR-CALDESC:Events for ArtsFalmouth, Inc.
REFRESH-INTERVAL;VALUE=DURATION:PT1H
X-Robots-Tag:noindex
X-PUBLISHED-TTL:PT1H
BEGIN:VTIMEZONE
TZID:America/New_York
BEGIN:DAYLIGHT
TZOFFSETFROM:-0500
TZOFFSETTO:-0400
TZNAME:EDT
DTSTART:20250309T070000
END:DAYLIGHT
BEGIN:STANDARD
TZOFFSETFROM:-0400
TZOFFSETTO:-0500
TZNAME:EST
DTSTART:20251102T060000
END:STANDARD
BEGIN:DAYLIGHT
TZOFFSETFROM:-0500
TZOFFSETTO:-0400
TZNAME:EDT
DTSTART:20260308T070000
END:DAYLIGHT
BEGIN:STANDARD
TZOFFSETFROM:-0400
TZOFFSETTO:-0500
TZNAME:EST
DTSTART:20261101T060000
END:STANDARD
BEGIN:DAYLIGHT
TZOFFSETFROM:-0500
TZOFFSETTO:-0400
TZNAME:EDT
DTSTART:20270314T070000
END:DAYLIGHT
BEGIN:STANDARD
TZOFFSETFROM:-0400
TZOFFSETTO:-0500
TZNAME:EST
DTSTART:20271107T060000
END:STANDARD
END:VTIMEZONE
BEGIN:VEVENT
DTSTART;TZID=America/New_York:20260107T153000
DTEND;TZID=America/New_York:20260107T170000
DTSTAMP:20260423T163920
CREATED:20251219T145821Z
LAST-MODIFIED:20251219T145821Z
UID:15569-1767799800-1767805200@artsfalmouth.org
SUMMARY:International Book Group – The Green Road by Anne Enright
DESCRIPTION:The International Book Group at West Falmouth Library is a volunteer-led group that meets on the first Wednesday of each month 3:45-5 p.m. Selections have either foreign settings or foreign authors\, usually both. New members are always welcome! Annual registration is requested to receive important communications about schedule or location changes; register below. Meetings are both in-person and on Zoom. \nFrom internationally acclaimed author Anne Enright comes a shattering novel set in a small town on Ireland’s Atlantic coast. The Green Road is a tale of family and fracture\, compassion and selfishness―a book about the gaps in the human heart and how we strive to fill them. \n“A rich\, capacious story\, buoyed by tender humor…. The Green Road…offers a survey of Enright’s magnificent dexterity…. There’s nothing she can’t do with perspective\, tone and time.” – Ron Charles\, Washington Post \n“The story of an Irish family\, [The Green Road] is the kind of book that refuses quick characterization: it is sprawling and intimate\, anguished and hopeful\, elliptical and intensely observed.” – Louisa Thomas\, The New Yorker
URL:https://artsfalmouth.org/event/international-book-group-the-green-road-by-anne-enright/
LOCATION:West Falmouth Library\, 575 West Falmouth Highway\, West Falmouth\, MA\, 02574\, United States
CATEGORIES:Book clubs
ATTACH;FMTTYPE=image/jpeg:https://artsfalmouth.org/wp-content/uploads/2025/12/green-road.jpg
ORGANIZER;CN="West Falmouth Library":MAILTO:wfal_mail@clamsnet.org
END:VEVENT
BEGIN:VEVENT
DTSTART;TZID=America/New_York:20260109T180000
DTEND;TZID=America/New_York:20260109T200000
DTSTAMP:20260423T163920
CREATED:20251116T033450Z
LAST-MODIFIED:20251116T033450Z
UID:15024-1767981600-1767988800@artsfalmouth.org
SUMMARY:Date Night Dance Lessons with Glen Carliss
DESCRIPTION:Have a wedding or event coming up? Dazzle them on the dance floor! \nStarting January  9\, the West Falmouth Library will offer dance lessons on  for five weeks (no class on January 30) on Fridays from 6 to 8 PM. Glen Carlis will teach the skills to enable attendees to gain the confidence to hit the dance floor. \nIn this easygoing and a unique workshop for two\, you’ll have fun learning to dance with a partner. Glen will proceed slowly and will not leave anyone behind. $250 per couple. \nDress to impress in your favorite formal wear for our last lesson on February 13 where we will debut and celebrate your new-found skills and confidence with a live band! \n“Glen doesn’t just teach steps; he teaches confidence\, connection and most importantly\, how to have fun!”
URL:https://artsfalmouth.org/event/date-night-dance-lessons-with-glen-carliss/
LOCATION:West Falmouth Library\, 575 West Falmouth Highway\, West Falmouth\, MA\, 02574\, United States
CATEGORIES:Dance instruction
ATTACH;FMTTYPE=image/png:https://artsfalmouth.org/wp-content/uploads/2025/11/Social-Dancing-Draft-1-scaled.png
ORGANIZER;CN="West Falmouth Library":MAILTO:wfal_mail@clamsnet.org
END:VEVENT
BEGIN:VEVENT
DTSTART;TZID=America/New_York:20260111T160000
DTEND;TZID=America/New_York:20260111T180000
DTSTAMP:20260423T163920
CREATED:20251211T000914Z
LAST-MODIFIED:20251215T161225Z
UID:15478-1768147200-1768154400@artsfalmouth.org
SUMMARY:Falmouth Chamber Players’ Olenellus String Quartet in Concert
DESCRIPTION:West Falmouth Library and The Falmouth Chamber Players Orchestra present a concert by the Players’ Olenellus String Quartet\, Sunday\, Jan. 11 at 4 p.m. They will be playing Mozart’s Quartet No. 4 in C Major\, Haydn’s “Emperor Quartet” Op 76 No. 3\, and an assortment of Scandinavian folk tunes. Admission by donation; suggested donation of $20. \nThe Olenellus quartet is made up of violinists Anna Fernandez-Buehrens and Liz Maloney\, violist Stephanie Burns\, and cellist Paul Hall. They hail from as nearby as Falmouth and as far away as Dorchester\, and have played together for about 10 years. They love playing pieces from the traditional quartet repertoire\, as well as exploring modern music and non-classical arrangements.
URL:https://artsfalmouth.org/event/falmouth-chamber-players-olenellus-string-quartet-in-concert/
LOCATION:West Falmouth Library\, 575 West Falmouth Highway\, West Falmouth\, MA\, 02574\, United States
CATEGORIES:Classical music
ATTACH;FMTTYPE=image/png:https://artsfalmouth.org/wp-content/uploads/2025/12/FCPO-Chamber-Music-Concert-11-Jan-2026-scaled.png
ORGANIZER;CN="West Falmouth Library":MAILTO:wfal_mail@clamsnet.org
END:VEVENT
BEGIN:VEVENT
DTSTART;TZID=America/New_York:20260113T133000
DTEND;TZID=America/New_York:20260113T150000
DTSTAMP:20260423T163920
CREATED:20251219T150109Z
LAST-MODIFIED:20251219T150109Z
UID:15579-1768311000-1768316400@artsfalmouth.org
SUMMARY:WFL Book Club – The Art Thief
DESCRIPTION:WFL’s volunteer led book club’s January selection is The Art Thief by Michael Finkel. All are welcome to join on Tuesday\, Jan. 13 at 1:30 p.m. Annual registration is requested to receive important communications about schedule or location changes. In this spellbinding portrait of obsession and flawed genius\, Michael Finkel gives us one of the most remarkable true-crime narratives of our times\, a riveting story of art\, theft\, love\, and an insatiable hunger to possess beauty at any cost. \n“Exhilarating…Finkel’s narrative thrills and electrifies\, until it all barrels toward inevitable capture\, two shocking betrayals\, and an astonishing conclusion.”\n—Adrienne Westenfeld\, Esquire \n“Thrilling…Finkel deftly unspools the story of Breitwieser’s improbable years-long adventure.”\n—Geoffrey Gagnon\, GQ
URL:https://artsfalmouth.org/event/wfl-book-club-the-art-thief/
LOCATION:West Falmouth Library\, 575 West Falmouth Highway\, West Falmouth\, MA\, 02574\, United States
CATEGORIES:Book clubs
ATTACH;FMTTYPE=image/png:https://artsfalmouth.org/wp-content/uploads/2025/12/2026-WFL-Book-Club-.png
ORGANIZER;CN="West Falmouth Library":MAILTO:wfal_mail@clamsnet.org
END:VEVENT
BEGIN:VEVENT
DTSTART;TZID=America/New_York:20260115T180000
DTEND;TZID=America/New_York:20260115T200000
DTSTAMP:20260423T163920
CREATED:20251219T150000Z
LAST-MODIFIED:20251219T150000Z
UID:15574-1768500000-1768507200@artsfalmouth.org
SUMMARY:Tea Time Book Club -
DESCRIPTION:Tea Time Book Club meets once a month on the third Thursday at 6 p.m. Each time we meet\, we’ll enjoy tea and take some time to catch up and get to know each other. We’ll discuss the book of the month and everyone will have an opportunity to recommend a book for the group to vote on for upcoming months. The Tea Time Book Club is not meeting in December. \nThe selection for the January 15th meeting is The Road to Tender Hearts by Annie Hartnett. A darkly comic and warm-hearted novel about an old man on a cross-country mission to reunite with his high school crush—bringing together his adult daughter\, two orphaned kids\, and a cat who can predict death—by the beloved author of Rabbit Cake and Unlikely Animals. \n“A miraculous novel—an actual and spiritual road trip you won’t forget.”—John Irving \nAn NPR And Lit Hub Best Book of the Year
URL:https://artsfalmouth.org/event/tea-time-book-club-2/
LOCATION:West Falmouth Library\, 575 West Falmouth Highway\, West Falmouth\, MA\, 02574\, United States
CATEGORIES:Book clubs
ATTACH;FMTTYPE=image/jpeg:https://artsfalmouth.org/wp-content/uploads/2025/12/annie-hartnett.jpg
ORGANIZER;CN="West Falmouth Library":MAILTO:wfal_mail@clamsnet.org
END:VEVENT
END:VCALENDAR